BEGIN:VCALENDAR
VERSION:2.0
PRODID:-//U.A.E. European Lawyers’ Union - ECPv6.15.20//NONSGML v1.0//EN
CALSCALE:GREGORIAN
METHOD:PUBLISH
X-ORIGINAL-URL:https://uae.lu
X-WR-CALDESC:Events for U.A.E. European Lawyers’ Union
REFRESH-INTERVAL;VALUE=DURATION:PT1H
X-Robots-Tag:noindex
X-PUBLISHED-TTL:PT1H
BEGIN:VTIMEZONE
TZID:Europe/Paris
BEGIN:DAYLIGHT
TZOFFSETFROM:+0100
TZOFFSETTO:+0200
TZNAME:CEST
DTSTART:20240331T010000
END:DAYLIGHT
BEGIN:STANDARD
TZOFFSETFROM:+0200
TZOFFSETTO:+0100
TZNAME:CET
DTSTART:20241027T010000
END:STANDARD
BEGIN:DAYLIGHT
TZOFFSETFROM:+0100
TZOFFSETTO:+0200
TZNAME:CEST
DTSTART:20250330T010000
END:DAYLIGHT
BEGIN:STANDARD
TZOFFSETFROM:+0200
TZOFFSETTO:+0100
TZNAME:CET
DTSTART:20251026T010000
END:STANDARD
BEGIN:DAYLIGHT
TZOFFSETFROM:+0100
TZOFFSETTO:+0200
TZNAME:CEST
DTSTART:20260329T010000
END:DAYLIGHT
BEGIN:STANDARD
TZOFFSETFROM:+0200
TZOFFSETTO:+0100
TZNAME:CET
DTSTART:20261025T010000
END:STANDARD
END:VTIMEZONE
BEGIN:VEVENT
DTSTART;TZID=Europe/Paris:20251016T193000
DTEND;TZID=Europe/Paris:20251016T233000
DTSTAMP:20260423T100814
CREATED:20251009T160628Z
LAST-MODIFIED:20251009T173631Z
UID:26074-1760643000-1760657400@uae.lu
SUMMARY:U.A.E. INCONTRO FORMATIVO
DESCRIPTION:Ultimi posti disponibili! \nLa Delegazione Milano e Lombardia Occidentale dell’U.A.E.\, in collaborazione con il Centro Studi di Diritto Penale Europeo (CSDPE)\, invita a partecipare all’incontro formativo:\nGiovedì 16 ottobre 2025\nOre 19:30\nSocietà del Giardino\, Via San Paolo 10 – Milano \nIl Consiglio dell’Ordine degli Avvocati di Milano ha attribuito 3 crediti formativi (delibera del 2/10/2025). \nL’incontro offrirà un approfondimento interdisciplinare sul tema della sicurezza e sul rapporto tra diritto europeo\, modelli organizzativi aziendali e principi partecipativi. \nAttraverso l’analisi comparativa tra la disciplina aeronautica e l’ordinamento comune\, verranno messi in luce i punti di contatto e le possibili applicazioni del modello della just culture per una più efficace attuazione del D.Lgs. 231/2001\, promuovendo una cultura aziendale fondata su partecipazione\, trasparenza e fiducia reciproca. \nInterverranno: \n• Avv. Rosanna Marzocca\, Presidente U.A.E.\n• Avv. Bruno Telchini\, Coordinatore delle Delegazioni e Commissioni U.A.E.\n• Prof. Lucio Camaldo\, Presidente Delegazione Milano e Lombardia Occidentale U.A.E.\n• e prestigiosi esperti della materia \nA seguire\, nella Sala Stendhal della Società del Giardino\, si terrà la cena conviviale riservata ai partecipanti\, al costo di € 70\,00 da versare con bonifico bancario\, secondo le indicazioni contenute nella scheda di iscrizione. \nScarica il programma dell’evento: \nEvent program - English\nPer iscrizioni o per ricevere ulteriori informazioni\, si prega di scrivere a:\nuaemilano@gmail.com \nModulo di registrazione
URL:https://uae.lu/event/uae-incontro-formativo/
LOCATION:Società del Giardino – Via San Paolo 10 – Milano\, Via San Paolo\, 10\, Milano\, Italy
CATEGORIES:Conferences
ATTACH;FMTTYPE=image/jpeg:https://uae.lu/wp-content/uploads/2025/10/U.A.E.MOBILE-COVER-scaled.jpg
END:VEVENT
BEGIN:VEVENT
DTSTART;VALUE=DATE:20251023
DTEND;VALUE=DATE:20251027
DTSTAMP:20260423T100814
CREATED:20251016T193401Z
LAST-MODIFIED:20251024T211356Z
UID:26128-1761181200-1761440399@uae.lu
SUMMARY:XX Stage di Diritto dell’Unione Europea “Andrea Cafiero”
DESCRIPTION:  \n \nL’Unione degli Avvocati Europei  (U.A.E.) sarà presente\, con il proprio patrocinio\, al XX Stage di Diritto dell’Unione Europea “Andrea Cafiero”. \nTre giornate di approfondimento dedicate ai grandi temi del diritto europeo: digitalizzazione e intelligenza artificiale\, transizione energetica\, governance e tutela dei diritti fondamentali. \n23\, 24 e 25 ottobre 2025 \nBiblioteca Alfredo De Marsico\, Castel Capuano\, Via Concezio Muzii 2 – Napoli \nSaranno presenti tra i relatori il Prof. Avv. Gian Michele Roberti e l’avv. Francesco Avolio\, Presidente e Vice Presidente della Delegazione Napoli e Campania nord dell’Unione Avvocati Europei (UAE)\, nonché l’Avv. Luigi Migliaccio\, Presidente della Commissione di Diritto dell’Immigrazione dell’UAE. \n Iscrizioni: ordineavvocatinapoli.it \nInformazioni: paolaquaranta@ordineavvocati.napoli.it \n– \nThe European Lawyers’ Union (U.A.E.) will take part\, under its patronage\, in the 20th European Union Law Stage “Andrea Cafiero” \nThree days of in-depth discussion dedicated to major topics in European law: digitalization and artificial intelligence\, energy transition\, governance\, and the protection of fundamental rights. \n 23–25 October 2025 \nAlfredo De Marsico Library\, Castel Capuano\, Via Concezio Muzii 2 – Naples \nAmong the speakers: \nProf. Lawyer Gian Michele Roberti and the lawyer Francesco Avolio\, President and Vice President of the Naples and Northern Campania Delegation of the European Lawyers Union (UAE)\, as well as the lawyer. Luigi Migliaccio\, President of the Immigration Law Commission of the UAE. \n Registration: ordineavvocatinapoli.it \nInformation: paolaquaranta@ordineavvocati.napoli.it \n– \nL’Union des Avocats Européens (U.A.E.) sera présente\, sous son patronage\, au 20e Stage de Droit de l’Union Européenne “Andrea Cafiero” \nTrois journées d’approfondissement consacrées aux grands thèmes du droit européen : numérisation et intelligence artificielle\, transition énergétique\, gouvernance et protection des droits fondamentaux. \n 23 au 25 octobre 2025 \nBibliothèque Alfredo De Marsico\, Castel Capuano\, Via Concezio Muzii 2 – Naples \nParmi les intervenants seront présents \nle professeur et avocat Gian Michele Roberti et l’avocat Francesco Avolio\, respectivement président et vice-président de la délégation de Naples et de la Campanie septentrionale de l’Union des avocats européens (UAE)\, ainsi que l’avocat Luigi Migliaccio\, président de la commission du droit de l’immigration de l’UAE. \n Inscriptions : ordineavvocatinapoli.it \nInformations : paolaquaranta@ordineavvocati.napoli.it
URL:https://uae.lu/event/xx-stage-di-diritto/
LOCATION:Ente Biblioteca di Castel Capuano “Alfredo De Marsico” Castel Capuano\, Castel Capuano\, Piazza Enrico De Nicola\, 2\, Napoli\, 80139\, Italy
CATEGORIES:Conferences
ATTACH;FMTTYPE=image/jpeg:https://uae.lu/wp-content/uploads/2025/10/XX-STAGE-DI-DIRITTO-DELLUNIONE-EUROPEA.zip-5-scaled.jpg
ORGANIZER;CN="U.A.E.":MAILTO:contact@uae.lu
END:VEVENT
BEGIN:VEVENT
DTSTART;TZID=Europe/Paris:20251030T110000
DTEND;TZID=Europe/Paris:20251030T140000
DTSTAMP:20260423T100814
CREATED:20251029T094723Z
LAST-MODIFIED:20251029T105603Z
UID:26161-1761822000-1761832800@uae.lu
SUMMARY:CORSO TECNICO - PRATICO DI DIRITTO DELL’IMMIGRAZIONE
DESCRIPTION:CORSO TECNICO – PRATICO DI DIRITTO DELL’IMMIGRAZIONE\nNona lezione \nCittadinanza: acquisto\, perdita e riacquisto \n  \n️Giovedì 30 Ottobre 2025 \n11:00 – 14:00 \nNuovo Palazzo di Giustizia di Napoli \n(Aula Metafora) \nonline sulla piattaforma Cisco Webex. \nLa lezione si aprirà con i Saluti istituzionali e con l’intervento della Prof. ROSSANA PALLADINO\, Coordinatrice Eu-Draw JM Module\, Università di Salerno. \nSeguiranno le relazioni del Prof.Avv. PAOLO MOROZZO DELLA ROCCA\, Prof. Ordinario di Diritto Privato\, dell’Avv.MICHELE PIZZI\, Foro di Milano\, e della PROF.Avv.ANGELA CORRERA\, Prof. Associato di Diritto dell’Unione Europea\, e il QUESTION TIME con i Colleghi DAVID ZAMMIT e IBTISAM SADEGH in collegamento da Malta. \nIl PRIMO MODULO PRATICO: la cittadinanza per residenza e il ricorso al Tribunale Amministrativo \nAvv. IDA LAUDISA del Foro di Napoli. \nIl SECONDO MODULO PRATICO: la cittadinanza ius soli e il ricorso al Tribunale Ordinario \nAvv. LUIGI MIGLIACCIO\, Presidente della Commissione di Diritti dell’Immigrazione della U.A.E. \nOrganizzato dalla Commissione Diritto dell’Immigrazione della U.A.E. e dalla Commissione Diritto dell’Immograzione COA di Napoli. \nScarica il programma \nTECHNICAL AND PRACTICAL COURSE ON IMMIGRATION LAW\nNinth Lesson \nCitizenship: Acquisition\, Loss and Reacquisition \n️ Thursday\, October 30\, 2025 \n11:00 AM – 2:00 PM \nNew Palace of Justice of Naples (Aula Metafora) \nOnline via Cisco Webex platform \nThe session will open with Institutional Greetings and an address by Prof. ROSSANA PALLADINO\, Coordinator of the EU-Draw JM Module\, University of Salerno. \nThis will be followed by presentations from: \nProf.Avv. PAOLO MOROZZO DELLA ROCCA\, Ordinary professor of Private Law \nAvv.MICHELE PIZZI\, Milan Bar Association \nProf. Avv. ANGELA CORRERA\, Associate Professor of European Union Law \nA QUESTION TIME will follow\, featuring colleagues DAVID ZAMMIT and IBTISAM SADEGH\, joining remotely from Malta. \nFIRST PRATICAL MODULE: Citizenship by residence and appeal before the Administrative Court Avv. IDA LAUDISA\, Naples Bar Association \nSECONDO PRATICAL MODULE: Citizenship by ius soli and appeal before the Ordinary Court \nAvv. LUIGI MIGLIACCIO\, President of the Immigration Law Commission pf the U.A.E. \nOrganized by the Immigration Law Commission of the U.A.E. and the Immigration Law Commission of Naples Bar Association \nDownload the program \n  \nCours technique et pratique de Droit de l’Immigration\nNeuvième leçon \nLa citoyenneté: acquisition\, perte et recouvrement \n  \n️ Jeudi 30 octobre 2025 \n11h00 – 14h00 \nNouveau Palais de Justice de Naples (Salle Métaphore) \nEn ligne sur la plateforme Cisco Webex \nLa séance s’ouvrira par les Salutations institutionnelles et l’intervention de Mme la Professeure Avocate ROSSANA PALLADINO\, Coordinatrice du Module EU-Draw JM\, Université de Salerne. \nSuivront les interventions de : \nLe Professeur Avocat PAOLO MOROZZO DELLA ROCFA\, Professeur titulaire de Droit privé \nMe MICHELE PIZZI\, Barreau de Milan \nMme la Professeure Avocate ANGELA CORRER\, Professeure associée de Droit de l’Union européenne. \nUn Qᴜᴇsᴛɪᴏɴ Tɪᴍᴇ  aura ensuite lieu avec la participation des Collègues DAVID ZAMMIT and IBTISAM SADEGH \, en connexion depuis Malte. \nPREMIER MODULE PRATIQUE: la citoyennetè par résidence et le recours devant le Tribunal administratif Me IDA LAUDISA\, Barreau de Naples \nDEUXIÈME MODULE PRATIQUE: la Citoyenneté par ius soli et le recours devant le Tribunal ordinaire Me LUIGI MIGLIACCIO\,Président de la Commission du droit de l’immigration U.A.E. \nOrganisé par la Commission du droit de l’immigration des Émirats arabes unis et la Commission du droit de l’immigration du Barreau de Naples. \nTélécharger le programme
URL:https://uae.lu/event/corso-tecnico-pratico-di-diritto-dellimmigrazione/
LOCATION:Nouveau Palais de Justice de Naples\, Piazza Cenni\, 1\, Napoli\, 80137\, Italy
CATEGORIES:Conferences
ORGANIZER;CN="U.A.E.":MAILTO:contact@uae.lu
END:VEVENT
END:VCALENDAR