BEGIN:VCALENDAR
VERSION:2.0
PRODID:-//U.A.E. European Lawyers’ Union - ECPv6.15.20//NONSGML v1.0//EN
CALSCALE:GREGORIAN
METHOD:PUBLISH
X-WR-CALNAME:U.A.E. European Lawyers’ Union
X-ORIGINAL-URL:https://uae.lu
X-WR-CALDESC:Events for U.A.E. European Lawyers’ Union
REFRESH-INTERVAL;VALUE=DURATION:PT1H
X-Robots-Tag:noindex
X-PUBLISHED-TTL:PT1H
BEGIN:VTIMEZONE
TZID:Europe/Paris
BEGIN:DAYLIGHT
TZOFFSETFROM:+0100
TZOFFSETTO:+0200
TZNAME:CEST
DTSTART:20240331T010000
END:DAYLIGHT
BEGIN:STANDARD
TZOFFSETFROM:+0200
TZOFFSETTO:+0100
TZNAME:CET
DTSTART:20241027T010000
END:STANDARD
BEGIN:DAYLIGHT
TZOFFSETFROM:+0100
TZOFFSETTO:+0200
TZNAME:CEST
DTSTART:20250330T010000
END:DAYLIGHT
BEGIN:STANDARD
TZOFFSETFROM:+0200
TZOFFSETTO:+0100
TZNAME:CET
DTSTART:20251026T010000
END:STANDARD
BEGIN:DAYLIGHT
TZOFFSETFROM:+0100
TZOFFSETTO:+0200
TZNAME:CEST
DTSTART:20260329T010000
END:DAYLIGHT
BEGIN:STANDARD
TZOFFSETFROM:+0200
TZOFFSETTO:+0100
TZNAME:CET
DTSTART:20261025T010000
END:STANDARD
END:VTIMEZONE
BEGIN:VEVENT
DTSTART;VALUE=DATE:20250605
DTEND;VALUE=DATE:20250609
DTSTAMP:20260423T171537
CREATED:20250420T192945Z
LAST-MODIFIED:20250423T170950Z
UID:25171-1749085200-1749344399@uae.lu
SUMMARY:U.A.E. ANNUAL CONGRESS 2025 / CONGRÈS ANNUEL U.A.E. 2025
DESCRIPTION:Register now on the event’s website:\n https://annual-congress.uae.lu \nDownload Program: \nANNUAL CONGRESS PROGRAM ENGLISH\nSOCIAL PROGRAMME & HOTELS\n*** \nInscrivez-vous sur le site de l’évènement:\nhttps://annual-congress.uae.lu \nTéléchargez le Programme: \nPROGRAMME DU CONGRES ANNUEL EN FRANCAIS\nSOCIAL PROGRAMME & HOTELS\n 
URL:https://uae.lu/event/u-a-e-annual-congress-2025-congres-annuel-u-a-e-2025/
LOCATION:lecce\, Italy\, lecce\, Italy
CATEGORIES:Conferences,Congresses
ORGANIZER;CN="U.A.E.":MAILTO:contact@uae.lu
END:VEVENT
BEGIN:VEVENT
DTSTART;TZID=Europe/Paris:20250626T110000
DTEND;TZID=Europe/Paris:20250626T140000
DTSTAMP:20260423T171537
CREATED:20250625T061629Z
LAST-MODIFIED:20250625T063910Z
UID:25316-1750935600-1750946400@uae.lu
SUMMARY:6th Lesson : Technical- practical course of Immigration Law
DESCRIPTION:Link for the registration: avvocati@studiolegalemigliaccio.com\n  \n  .  .   \nLink for the registration: avvocati@studiolegalemigliaccio.com
URL:https://uae.lu/event/6th-lesson-technical-practical-course-of-immigration-law/
LOCATION:NAPOLI – Palazzo di giustizia di Napoli “Alessandro Criscuolo” – Aula Metafora\, Italy
CATEGORIES:Course,Past Event
END:VEVENT
END:VCALENDAR