BEGIN:VCALENDAR
VERSION:2.0
PRODID:-//U.A.E. European Lawyers’ Union - ECPv6.15.20//NONSGML v1.0//EN
CALSCALE:GREGORIAN
METHOD:PUBLISH
X-WR-CALNAME:U.A.E. European Lawyers’ Union
X-ORIGINAL-URL:https://uae.lu
X-WR-CALDESC:Events for U.A.E. European Lawyers’ Union
REFRESH-INTERVAL;VALUE=DURATION:PT1H
X-Robots-Tag:noindex
X-PUBLISHED-TTL:PT1H
BEGIN:VTIMEZONE
TZID:Europe/Paris
BEGIN:DAYLIGHT
TZOFFSETFROM:+0100
TZOFFSETTO:+0200
TZNAME:CEST
DTSTART:20180325T010000
END:DAYLIGHT
BEGIN:STANDARD
TZOFFSETFROM:+0200
TZOFFSETTO:+0100
TZNAME:CET
DTSTART:20181028T010000
END:STANDARD
BEGIN:DAYLIGHT
TZOFFSETFROM:+0100
TZOFFSETTO:+0200
TZNAME:CEST
DTSTART:20190331T010000
END:DAYLIGHT
BEGIN:STANDARD
TZOFFSETFROM:+0200
TZOFFSETTO:+0100
TZNAME:CET
DTSTART:20191027T010000
END:STANDARD
BEGIN:DAYLIGHT
TZOFFSETFROM:+0100
TZOFFSETTO:+0200
TZNAME:CEST
DTSTART:20200329T010000
END:DAYLIGHT
BEGIN:STANDARD
TZOFFSETFROM:+0200
TZOFFSETTO:+0100
TZNAME:CET
DTSTART:20201025T010000
END:STANDARD
END:VTIMEZONE
BEGIN:VEVENT
DTSTART;TZID=Europe/Paris:20190430T000000
DTEND;TZID=Europe/Paris:20190430T000000
DTSTAMP:20260424T093843
CREATED:20190215T102404Z
LAST-MODIFIED:20190506T114654Z
UID:4923-1556582400-1556582400@uae.lu
SUMMARY:YOUNG LAWYERS SCHOLARSHIP 2019 - BOURSE 2019 JEUNES AVOCATS
DESCRIPTION:YOUNG LAWYERS SCHOLARSHIP 2019 \nThe U.A.E. Scholarship aims to promote the participation of young lawyers in the activities of the U.A.E.\, by awarding 2 years free membership and an invitation to the two main events organized each year by the association: the Annual Congress and the General Assembly. \nBOURSE 2019 JEUNES AVOCATS \nLa Bourse de l’U.A.E. vise à promouvoir la participation de jeunes avocats aux activités de l’U.A.E.\, en leur offrant 2 ans d’adhésion gratuite et en les invitant aux deux principaux événements organisés chaque année par l’association: le Congrès Annuel et l’Assemblée Générale. \nDOWNLOAD POSTER ENGLISH\nTÉLÉCHARGER POSTER FRANÇAIS
URL:https://uae.lu/event/young-lawyers-scholarship-2019-bourse-2019-jeunes-avocats/
CATEGORIES:Conferences,Past Event,Scholarship
END:VEVENT
END:VCALENDAR