BEGIN:VCALENDAR
VERSION:2.0
PRODID:-//U.A.E. European Lawyers’ Union - ECPv6.15.20//NONSGML v1.0//EN
CALSCALE:GREGORIAN
METHOD:PUBLISH
X-ORIGINAL-URL:https://uae.lu
X-WR-CALDESC:Events for U.A.E. European Lawyers’ Union
REFRESH-INTERVAL;VALUE=DURATION:PT1H
X-Robots-Tag:noindex
X-PUBLISHED-TTL:PT1H
BEGIN:VTIMEZONE
TZID:Europe/Paris
BEGIN:DAYLIGHT
TZOFFSETFROM:+0100
TZOFFSETTO:+0200
TZNAME:CEST
DTSTART:20180325T010000
END:DAYLIGHT
BEGIN:STANDARD
TZOFFSETFROM:+0200
TZOFFSETTO:+0100
TZNAME:CET
DTSTART:20181028T010000
END:STANDARD
BEGIN:DAYLIGHT
TZOFFSETFROM:+0100
TZOFFSETTO:+0200
TZNAME:CEST
DTSTART:20190331T010000
END:DAYLIGHT
BEGIN:STANDARD
TZOFFSETFROM:+0200
TZOFFSETTO:+0100
TZNAME:CET
DTSTART:20191027T010000
END:STANDARD
BEGIN:DAYLIGHT
TZOFFSETFROM:+0100
TZOFFSETTO:+0200
TZNAME:CEST
DTSTART:20200329T010000
END:DAYLIGHT
BEGIN:STANDARD
TZOFFSETFROM:+0200
TZOFFSETTO:+0100
TZNAME:CET
DTSTART:20201025T010000
END:STANDARD
BEGIN:DAYLIGHT
TZOFFSETFROM:+0100
TZOFFSETTO:+0200
TZNAME:CEST
DTSTART:20210328T010000
END:DAYLIGHT
BEGIN:STANDARD
TZOFFSETFROM:+0200
TZOFFSETTO:+0100
TZNAME:CET
DTSTART:20211031T010000
END:STANDARD
BEGIN:DAYLIGHT
TZOFFSETFROM:+0100
TZOFFSETTO:+0200
TZNAME:CEST
DTSTART:20220327T010000
END:DAYLIGHT
BEGIN:STANDARD
TZOFFSETFROM:+0200
TZOFFSETTO:+0100
TZNAME:CET
DTSTART:20221030T010000
END:STANDARD
BEGIN:DAYLIGHT
TZOFFSETFROM:+0100
TZOFFSETTO:+0200
TZNAME:CEST
DTSTART:20230326T010000
END:DAYLIGHT
BEGIN:STANDARD
TZOFFSETFROM:+0200
TZOFFSETTO:+0100
TZNAME:CET
DTSTART:20231029T010000
END:STANDARD
BEGIN:DAYLIGHT
TZOFFSETFROM:+0100
TZOFFSETTO:+0200
TZNAME:CEST
DTSTART:20240331T010000
END:DAYLIGHT
BEGIN:STANDARD
TZOFFSETFROM:+0200
TZOFFSETTO:+0100
TZNAME:CET
DTSTART:20241027T010000
END:STANDARD
BEGIN:DAYLIGHT
TZOFFSETFROM:+0100
TZOFFSETTO:+0200
TZNAME:CEST
DTSTART:20250330T010000
END:DAYLIGHT
BEGIN:STANDARD
TZOFFSETFROM:+0200
TZOFFSETTO:+0100
TZNAME:CET
DTSTART:20251026T010000
END:STANDARD
BEGIN:DAYLIGHT
TZOFFSETFROM:+0100
TZOFFSETTO:+0200
TZNAME:CEST
DTSTART:20260329T010000
END:DAYLIGHT
BEGIN:STANDARD
TZOFFSETFROM:+0200
TZOFFSETTO:+0100
TZNAME:CET
DTSTART:20261025T010000
END:STANDARD
END:VTIMEZONE
BEGIN:VEVENT
DTSTART;TZID=Europe/Paris:20190627T193000
DTEND;TZID=Europe/Paris:20190629T153000
DTSTAMP:20260425T135844
CREATED:20190410T100451Z
LAST-MODIFIED:20191014T092028Z
UID:5413-1561663800-1561822200@uae.lu
SUMMARY:XXXIII ANNUAL CONGRESS: ALTERNATIVE DISPUTE RESOLUTION (ADR) IN THE EUROPEAN LEGAL CONTEXT: EVOLVING LEGAL TOOLS AND SECTOR-SPECIFIC IMPLEMENTATION / XXXIIIème CONGRÈS ANNUEL: LE RÈGLEMENT EXTRAJUDICIAIRE DES LITIGES (REL) DANS LE CONTEXTE JURIDIQUE EUROPÉEN: PERSPECTIVES DE DÉVELOPPEMENT ET APPLICATIONS SECTORIELLES
DESCRIPTION:We are pleased to invite you to the XXXIII ANNUAL CONGRESS of U.A.E. about “ALTERNATIVE DISPUTE RESOLUTION (ADR) IN THE EUROPEAN LEGAL CONTEXT: EVOLVING LEGAL TOOLS AND SECTOR-SPECIFIC IMPLEMENTATION” on 28 and 29 June 2019 in Naples\, Italy. \nA welcome drink will take place on 27 June at 19.30. \nREGISTRATION CLOSED\, AVAILABLE PLACES ARE SOLD OUT. \n\nREGISTRATION\nPROGRAMME (ENGLISH)\nPROGRAMME (ITALIAN)\nGUIDED TOUR PROGRAMME (ENGLISH)\nGUIDED TOUR PROGRAMME (ITALIAN)\nTOURISTIC INFORMATION (ENGLISH)\nTOURISTIC INFORMATION (ITALIAN)\n_______ \nNous sommes heureux de vous convier au XXXIIIème CONGRÈS ANNUEL de l’U.A.E. sur le thème “LE RÈGLEMENT EXTRAJUDICIAIRE DES LITIGES (REL) DANS LE CONTEXTE JURIDIQUE EUROPÉEN: PERSPECTIVES DE DÉVELOPPEMENT ET APPLICATIONS SECTORIELLES“\, qui aura lieu les 28 et 29 Juin 2019 à Naples\, Italie. \nUn cocktail de bienvenue est organisé le 27 Juin à 19h30. \nINSCRIPTIONS FERMÉES DÛ À L’ÉPUISEMENT DES PLACES DISPONIBLES. \n\nINSCRIPTION\nPROGRAMME (FRANÇAIS)\nPROGRAMME (ITALIEN)\nPROGRAMME VISITE GUIDÉE (FRANÇAIS)\nPROGRAMME VISITE GUIDÉE (ITALIEN)\nINFORMATIONS TOURISTIQUES (FRANÇAIS)\nINFORMATIONS TOURISTIQUES (ITALIEN)
URL:https://uae.lu/event/xxxiii-annual-congress-alternative-dispute-resolution-adr-in-the-european-legal-context/
LOCATION:Naples\, Italy\, Biblioteca Nazionale Vittorio Emanuele III\, Piazza del Plebiscito\, 1\, Naples\, 80132\, Italy
CATEGORIES:Congresses,Past Event
ORGANIZER;CN="Avv. Francesco AVOLIO":MAILTO:avvfrancescoavolio@gmail.com
END:VEVENT
BEGIN:VEVENT
DTSTART;TZID=Europe/Paris:20190726T100000
DTEND;TZID=Europe/Paris:20190726T130000
DTSTAMP:20260425T135844
CREATED:20190725T143413Z
LAST-MODIFIED:20191014T092033Z
UID:6231-1564135200-1564146000@uae.lu
SUMMARY:“CREA” PROJECT: CONFLICT RESOLUTION WITH EQUITATIVE ALGORITHMS
DESCRIPTION:PRESENTATION “CREA” PROJECT: CONFLICT RESOLUTION WITH EQUITATIVE ALGORITHMS \nDOWNLOAD PROGRAMME - ENGLISH\nDOWNLOAD PROGRAMME - ITALIANO
URL:https://uae.lu/event/crea-project-conflict-resolution-with-equitative-algorithms/
LOCATION:STUDIO EJC – Roberti & Associati\, Place du Grand Sablon\, 36\, Bruxelles\, B-1000\, Belgium
CATEGORIES:Conferences,Past Event
ORGANIZER;CN="Avv. Francesco AVOLIO":MAILTO:avvfrancescoavolio@gmail.com
END:VEVENT
BEGIN:VEVENT
DTSTART;TZID=Europe/Paris:20190906T090000
DTEND;TZID=Europe/Paris:20190906T180000
DTSTAMP:20260425T135844
CREATED:20190624T171734Z
LAST-MODIFIED:20191014T091952Z
UID:6032-1567760400-1567792800@uae.lu
SUMMARY:BONNES PRATIQUES POUR LE PAYSAGE / GOOD PRACTICES FOR THE LANDSCAPE
DESCRIPTION:UNIVERSITÉ D’ÉTÉ \nSujet : “BONNES PRATIQUES POUR LE PAYSAGE”\norganisée par la Commission du Droit Pénal de l’U.A.E. \nSUMMER UNIVERSITY \nSubject : “GOOD PRACTICES FOR THE LANDSCAPE”\norganized by the U.A.E. Criminal Law Commission. \nTÉLÉCHARGER PROGRAMME / DOWNLOAD PROGRAMME
URL:https://uae.lu/event/bonnes-pratiques-pour-le-paysage-good-practices-for-the-landscape/
LOCATION:University of Bergamo\, Piazzale S. Agostino\, 2\, Bergamo\, 24129\, Italy
CATEGORIES:Conferences,Past Event
ORGANIZER;CN="Avv. Giovanni Bana (President of the Criminal Law Commission)":MAILTO:gb@studiobana.it
END:VEVENT
BEGIN:VEVENT
DTSTART;TZID=Europe/Paris:20190927T093000
DTEND;TZID=Europe/Paris:20190927T173000
DTSTAMP:20260425T135844
CREATED:20190910T103032Z
LAST-MODIFIED:20191014T091917Z
UID:15984-1569576600-1569605400@uae.lu
SUMMARY:NEW LEGAL DEVELOPMENTS IN INTERNATIONAL ARBITRATION
DESCRIPTION:CONFÉRENCE / CONFERENCE \nNEW LEGAL DEVELOPMENTS IN INTERNATIONAL ARBITRATION \nPROGRAMME / PROGRAM\nCOUPON RÉPONSE / REPLY COUPON
URL:https://uae.lu/event/new-legal-developments-in-international-arbitration/
LOCATION:University of Luxembourg\, Campus Kirchberg\, University of Luxembourg\, Campus Kirchberg\, Luxembourg
CATEGORIES:Conferences,Past Event
ORGANIZER;CN="Ma%C3%AEtre Jo%C3%AB Lemmer and Ms Annabelle Miller":MAILTO:events@lemmer.law
END:VEVENT
BEGIN:VEVENT
DTSTART;TZID=Europe/Paris:20190930T120000
DTEND;TZID=Europe/Paris:20190930T150000
DTSTAMP:20260425T135844
CREATED:20190927T092808Z
LAST-MODIFIED:20191014T091911Z
UID:16072-1569844800-1569855600@uae.lu
SUMMARY:LE PROJET "CREA": RÉSOLUTION DES CONFLITS PAR DES ALGORITHMES ÉQUITATIFS / THE "CREA" PROJECT: CONFLICT RESOLUTION WITH EQUITATIVE ALGORITHMS
DESCRIPTION:CONFÉRENCE \nLE PROJET “CREA”: RÉSOLUTION DES CONFLITS PAR DES ALGORITHMES ÉQUITATIFS \nCONFERENCE \nTHE “CREA” PROJECT: CONFLICT RESOLUTION WITH EQUITATIVE ALGORITHMS  \nPROGRAMME / PROGRAM
URL:https://uae.lu/event/le-projet-crea-resolution-des-conflits-par-des-algorithmes-equitatifs-the-crea-project-conflict-resolution-with-equitative-algorithms/
LOCATION:Ente Biblioteca di Castel Capuano “Alfredo De Marsico” Castel Capuano\, Castel Capuano\, Piazza Enrico De Nicola\, 2\, Napoli\, 80139\, Italy
CATEGORIES:Conferences,Past Event
ORGANIZER;CN="Avv. Francesco AVOLIO":MAILTO:avvfrancescoavolio@gmail.com
END:VEVENT
BEGIN:VEVENT
DTSTART;TZID=Europe/Paris:20191003T140000
DTEND;TZID=Europe/Paris:20191003T183000
DTSTAMP:20260425T135844
CREATED:20190910T094312Z
LAST-MODIFIED:20191014T091859Z
UID:15971-1570111200-1570127400@uae.lu
SUMMARY:LE PROCÈS FISCAL / THE TAX TRIAL - RAVENNA
DESCRIPTION:CONFÉRENCE: \nSujet : “Le projet de loi pour la réforme du droit fiscal et des Tribunaux Fiscaux”; “L’impact du droit Européen sur le procès fiscal”; “Le procès fiscal à l’étranger”; “Le processus télématique 3 mois après son entrée en vigueur: problèmes et simulation pratique”. \nCONFERENCE: \nSubject : “The bill for the reform of the tax law and the Tax Courts”; “The impact of European law on the tax trial”; “The tax trial abroad”; “The telematic process after 3 months from entry into force: problems and practical simulations”. \nDOWNLOAD PROGRAMME RAVENNA - ITALIAN
URL:https://uae.lu/event/le-proces-fiscal-the-tax-trial-ravenna/
LOCATION:BIBLIOTECA CLASSENSE – SALA MURATORI\, BIBLIOTECA CLASSENSE\, Via Baccarini\, 3\, Ravenna\, Italy
CATEGORIES:Conferences,Past Event
ORGANIZER;CN="Avv. Dario Marsella%2C President of the Tax Law Commission":MAILTO:uaetaxcommission@gmail.com
END:VEVENT
BEGIN:VEVENT
DTSTART;TZID=Europe/Paris:20191004T140000
DTEND;TZID=Europe/Paris:20191004T183000
DTSTAMP:20260425T135844
CREATED:20190927T171021Z
LAST-MODIFIED:20191014T091848Z
UID:16092-1570197600-1570213800@uae.lu
SUMMARY:LE PROCÈS FISCAL / THE TAX TRIAL - FERRARA
DESCRIPTION:CONFÉRENCE: \nSujet : “Le projet de loi pour la réforme du droit fiscal et des Tribunaux Fiscaux”; “L’impact du droit Européen sur le procès fiscal”; “Le procès fiscal à l’étranger”; “Le processus télématique 3 mois après son entrée en vigueur: problèmes et simulation pratique”. \nCONFERENCE: \nSubject : “The bill for the reform of the tax law and the Tax Courts”; “The impact of European law on the tax trial”; “The tax trial abroad”; “The telematic process after 3 months from entry into force: problems and practical simulations”. \nDOWNLOAD PROGRAMME FERRARA - ITALIAN
URL:https://uae.lu/event/le-proces-fiscal-the-tax-trial-ferrara/
LOCATION:SALA CONFERENZE ICOS SPA\, SALA CONFERENZE ICOS SPA\, Via Monsignor L. Maverna\, 4\, Ferrara\, 44122\, Italy
CATEGORIES:Conferences,Past Event
ORGANIZER;CN="Avv. Dario Marsella%2C President of the Tax Law Commission":MAILTO:uaetaxcommission@gmail.com
END:VEVENT
BEGIN:VEVENT
DTSTART;TZID=Europe/Paris:20191115T160000
DTEND;TZID=Europe/Paris:20191115T180000
DTSTAMP:20260425T135844
CREATED:20191118T124301Z
LAST-MODIFIED:20191118T152437Z
UID:16614-1573833600-1573840800@uae.lu
SUMMARY:LES PROFESSIONS À L'ÈRE DE L'ÉCONOMIE DIGITALE: DE LA BLOCKCHAIN À LA CITOYENNETÉ DIGITALE / JOBS IN THE DIGITAL ECONOMY ERA: FROM BLOCKCHAIN TO DIGITAL CITIZENSHIP
DESCRIPTION:CONFÉRENCE NATIONALE – NATIONAL CONFERENCE \nSujet : “LES PROFESSIONS À L’ÈRE DE L’ÉCONOMIE DIGITALE: DE LA BLOCKCHAIN À LA CITOYENNETÉ DIGITALE”. \nSubject : “JOBS IN THE DIGITAL ECONOMY ERA: FROM BLOCKCHAIN TO DIGITAL CITIZENSHIP” \nTÉLÉCHARGER PROGRAMME\nDOWNLOAD PROGRAMME
URL:https://uae.lu/event/les-professions-a-lere-de-leconomie-digitale-de-la-blockchain-a-la-citoyennete-digitale-jobs-in-the-digital-economy-era-from-blockchain-to-digital-citizenship/
LOCATION:Sicindustria\, Via Alessandro Volta 44\, Palermo\, Sicindustria\, Via Alessandro Volta 44\, Palermo\, France
CATEGORIES:Conferences,Past Event
ORGANIZER;CN="Segretaria U.A.E.":MAILTO:unioneavvocatieuropei.palermo@gmail.com
END:VEVENT
BEGIN:VEVENT
DTSTART;TZID=Europe/Paris:20200605T153000
DTEND;TZID=Europe/Paris:20200605T180000
DTSTAMP:20260425T135844
CREATED:20201113T114011Z
LAST-MODIFIED:20201113T114414Z
UID:18152-1591371000-1591380000@uae.lu
SUMMARY:LA LEGISLATION D’URGENCE COVID-19 ET SES CONSEQUENCES DANS LE DOMAINE FISCAL - THE COVID-19 EMERGENCY LEGISLATION AND ITS CONSEQUENCES IN THE FISCAL SECTOR
DESCRIPTION:  \nCONFÉRENCE ORGANISÉE PAR LA COMMISSION «DROIT FISCAL». \nCONFERENCE ORGANISED BY THE “TAX LAW” COMMISSION. \n  \nPROGRAMME
URL:https://uae.lu/event/la-legislation-durgence-covid-19-et-ses-consequences-dans-le-domaine-fiscal-the-covid-19-emergency-legislation-and-its-consequences-in-the-fiscal-sector/
LOCATION:Online
CATEGORIES:Conferences,Past Event
ORGANIZER;CN="Tax Law Commission":MAILTO:segreteriamarsella@gmail.com
END:VEVENT
BEGIN:VEVENT
DTSTART;TZID=Europe/Paris:20201113T140000
DTEND;TZID=Europe/Paris:20201113T180000
DTSTAMP:20260425T135844
CREATED:20201023T103549Z
LAST-MODIFIED:20201114T110925Z
UID:18061-1605276000-1605290400@uae.lu
SUMMARY:ASSEMBLÉE GÉNÉRALE U.A.E. 2020 - U.A.E. GENERAL ASSEMBLY 2020
DESCRIPTION:  \nASSEMBLÉE GÉNÉRALE U.A.E. 2020\nl’Assemblée Générale de l’U.A.E. se tiendra par visioconférence depuis la “Maison du Barreau” de Paris le Vendredi 13 Novembre 2020 à 14h00. \nLe lien de connexion sera envoyé aux participants ayant retourné le formulaire d’inscription ci-dessous. \nCONVOCATION\nFORMULAIRE INSCRIPTION\n  \nU.A.E. GENERAL ASSEMBLY 2020\nThe U.A.E. General Assembly will be held by videoconference from the “Maison du Barreau” in Paris on Friday\, November 13\, 2020 at 2:00 pm. \nThe connection link will be sent to participants who have returned the below registration form. \nINVITATION\nREGISTRATION FORM
URL:https://uae.lu/event/assemblee-generale-u-a-e-2020-u-a-e-general-assembly-2020/
CATEGORIES:Conferences,General Assembly,Past Event
END:VEVENT
BEGIN:VEVENT
DTSTART;TZID=Europe/Paris:20210129T120000
DTEND;TZID=Europe/Paris:20210129T140000
DTSTAMP:20260425T135844
CREATED:20210201T091100Z
LAST-MODIFIED:20210201T091100Z
UID:19002-1611921600-1611928800@uae.lu
SUMMARY:Webinar Campania Regional Delegation
DESCRIPTION:PROGRAMME
URL:https://uae.lu/event/webinar-campania-regional-delegation/
LOCATION:Online
CATEGORIES:Conferences,Past Event
END:VEVENT
BEGIN:VEVENT
DTSTART;TZID=Europe/Paris:20220701T093000
DTEND;TZID=Europe/Paris:20220702T183000
DTSTAMP:20260425T135844
CREATED:20211130T103614Z
LAST-MODIFIED:20220727T081624Z
UID:19986-1656667800-1656786600@uae.lu
SUMMARY:XXXV U.A.E. ANNUAL CONGRESS / XXXVème CONGRÈS ANNUEL U.A.E. - Porto\, 1-2 July 2022
DESCRIPTION:REGISTER NOW! \nwww.annualcongress-uae.lu \nINSCRIVEZ-VOUS! \nwww.annualcongress-uae.lu \nDOWNLOAD PROGRAMME - ENGLISH\nTÉLÉCHARGER PROGRAMME - FRANÇAIS
URL:https://uae.lu/event/xxxv-u-a-e-annual-congress-xxxveme-congres-annuel-u-a-e/
LOCATION:Porto\, Portugal\, Portugal
CATEGORIES:Conferences,Congresses,Past Event
ORGANIZER;CN="U.A.E.":MAILTO:contact@uae.lu
END:VEVENT
BEGIN:VEVENT
DTSTART;TZID=Europe/Paris:20240920T133000
DTEND;TZID=Europe/Paris:20240920T173000
DTSTAMP:20260425T135844
CREATED:20240809T194427Z
LAST-MODIFIED:20240930T155421Z
UID:24144-1726839000-1726853400@uae.lu
SUMMARY:SICUREZZA È DIGNITÀ DEL LAVORO
DESCRIPTION:Download Programme: \nPROGRAMME\nEmail address for registration: \nstudiolegaleandretta@gmail.com
URL:https://uae.lu/event/sicurezza-e-dignita-del-lavoro/
LOCATION:Napoli\, Biblioteca di Castel Capuano\, Biblioteca di Castel Capuano\, Napoli\, Italy
CATEGORIES:Past Event
END:VEVENT
BEGIN:VEVENT
DTSTART;TZID=Europe/Paris:20241001T193000
DTEND;TZID=Europe/Paris:20241001T233000
DTSTAMP:20260425T135844
CREATED:20240916T195618Z
LAST-MODIFIED:20240930T155546Z
UID:24201-1727811000-1727825400@uae.lu
SUMMARY:La tutela della proprietà intellettuale nell'Unione Europea e la nuova sede del Tribunale unificato dei brevetti a Milano
DESCRIPTION:Delegazione Milano e Lombardia Occidentale \nin collaborazione con Centro Studi di Diritto Penale Europeo \n  \nMartedì 1° ottobre 2024 – ore 19.30 – 23.30 \nSocietà del Giardino – Via S. Paolo 10 – Milano \nINCONTRO DI FORMAZIONE \nIn fase di accreditamento presso l’Ordine degli Avvocati di Milano \n19.15 – Registrazione dei partecipanti e flûte di benvenuto \n19.30 – Introduzione \n– Avv. Bruno Telchini\, Coordinatore delle Commissioni e Delegazioni UAE \n– Avv. Enrico Adriano Raffaelli\, founding partner Rucellai & Raffaelli Law Firm\, Presidente della Commissione UAE “Competition and Anti-Dumping” \n– Prof. Lucio Camaldo\, Presidente Delegazione Milano e Lombardia Occidentale UAE \n20.00 – La tutela della proprietà intellettuale in Europa e in Italia \nDott.ssa Marina Tavassi – già Presidente della Corte d’Appello di Milano e della Sezione Specializzata Impresa del Tribunale di Milano \n20.30 – Il sistema UPC: un primo bilancio all’avvio della sede milanese \nAvv. Michele Franzosi\, Studio Legale Rucellai & Raffaelli \n21.00 – Le peculiarità dell’intervento penale in materia brevettuale \nAvv. Federico Riboldi – Studio Legale Brenelli – Riboldi – Troglia \n21.30 – Cena conviviale con i partecipanti \n22.30 – Interventi programmati e dibattito \n23.00 – Considerazioni conclusive \nAvv. Paolo Re – Vice Presidente Delegazione Milano e Lombardia Occidentale – UAE  \n23.30 – Chiusura dell’incontro \nPer iscrizioni o per ricevere ulteriori informazioni\, si prega di scrivere a: \nuaemilano@gmail.com \n 
URL:https://uae.lu/event/la-tutela-della-proprieta-intellettuale-nellunione-europea-e-la-nuova-sede-del-tribunale-unificato-dei-brevetti-a-milano/
LOCATION:Società del Giardino – Via San Paolo 10 – Milano\, Società del Giardino\, Via San Paolo 10\, Milano\, Italy
CATEGORIES:Conferences,Past Event
ORGANIZER;CN="Delegazione Milano e Lombardia Occidentale":MAILTO:uaemilano@gmail.com
END:VEVENT
BEGIN:VEVENT
DTSTART;VALUE=DATE:20241004
DTEND;VALUE=DATE:20241008
DTSTAMP:20260425T135844
CREATED:20241002T202351Z
LAST-MODIFIED:20241002T202538Z
UID:24291-1728003600-1728262799@uae.lu
SUMMARY:XIX Stage di Diritto dell'Unione Europea "Andrea Cafiero"
DESCRIPTION:Use this link for registration : https://www.ordineavvocatinapoli.it/xix-stage-di-diritto-dellunione-europea-andrea-cafiero/ \n \nStage Diritto U.E. Andrea Cafiero 2024 DEFINITIVO
URL:https://uae.lu/event/xix-stage-di-diritto-dellunione-europea-andrea-cafiero/
LOCATION:San Marco di Castellabate (Salerno) – Hotel Mareluna in San Marco di Castellabate (SA)\, via Carlo De Angelis\, Via Carlo de Angelis\, S.Marco di Castellabate SA\, 84048\, Italy
CATEGORIES:Course,Past Event
END:VEVENT
BEGIN:VEVENT
DTSTART;TZID=Europe/Paris:20241004T150000
DTEND;TZID=Europe/Paris:20241004T190000
DTSTAMP:20260425T135844
CREATED:20240930T160414Z
LAST-MODIFIED:20241002T114958Z
UID:24264-1728054000-1728068400@uae.lu
SUMMARY:Diritto d'autore e Entertainement law - Aspetti fiscali e giuslavoristici
DESCRIPTION:The link for the registration is: segreteriamarsella@gmail.com
URL:https://uae.lu/event/diritto-dautore-e-entertainement-law-aspetti-fiscali-e-giuslavoristici-2/
LOCATION:Sala Convegni – Art hotel and Park of Lecce\, Via Giorgio de Chirico 1\, lecce\, 73100\, Italy
CATEGORIES:Conferences,Past Event
END:VEVENT
BEGIN:VEVENT
DTSTART;TZID=Europe/Paris:20241023T100000
DTEND;TZID=Europe/Paris:20241023T133000
DTSTAMP:20260425T135844
CREATED:20241002T210426Z
LAST-MODIFIED:20241008T160859Z
UID:24307-1729677600-1729690200@uae.lu
SUMMARY:Mod. 231 –  Applicazione nelle società di gestione dei servizi aeroportuali\, e di trasporto pubblico
DESCRIPTION:Link for the registration: studiolegalebruccoleri@gmail.com \n \nLOCANDINA EVENTO 231 ROMA – CAMERA DEI DEPUTATI _rev. 24.9.2024_
URL:https://uae.lu/event/mod-231-applicazione-nelle-societa-di-gestione-dei-servizi-aeroportuali-e-di-trasporto-pubblico/
LOCATION:ROMA – CAMERA DEI DEPUTATI – Sala Matteotti – Piazza del Parlamento\, n. 19\, CAMERA DEI DEPUTATI – Sala Matteotti – Piazza del Parlamento\, n. 19\, ROMA\, Italy
CATEGORIES:Conferences,Past Event
END:VEVENT
BEGIN:VEVENT
DTSTART;TZID=Europe/Paris:20241108T090000
DTEND;TZID=Europe/Paris:20241108T180000
DTSTAMP:20260425T135844
CREATED:20241017T162803Z
LAST-MODIFIED:20241017T163634Z
UID:24358-1731056400-1731088800@uae.lu
SUMMARY:Le nuove frontiere della salvaguardia dei diritti umani e dei diritti fondamentali alla luce della legislazione europea e nazionale sull'intelligenza artificiale
DESCRIPTION:Lien pour vous inscrire / Link for subscription : mariella@iol.it \n  \nLien pour vous inscrire / Link for subscription : mariella@iol.it
URL:https://uae.lu/event/le-nuove-frontiere-della-salvaguardia-dei-diritti-umani-e-dei-diritti-fondamentali-alla-luce-della-legislazione-europea-e-nazionale-sullintelligenza-artificiale/
LOCATION:NAPOLI – Apple Developper Academy – C.so Nicolangelo Protopisani n.70\, Corso Nicolangelo Protopisani\, 70\, Napoli\, 80146\, Italy
CATEGORIES:Conferences,Past Event
END:VEVENT
BEGIN:VEVENT
DTSTART;TZID=Europe/Paris:20241203T143000
DTEND;TZID=Europe/Paris:20241203T173000
DTSTAMP:20260425T135844
CREATED:20241114T083555Z
LAST-MODIFIED:20241114T084928Z
UID:24409-1733236200-1733247000@uae.lu
SUMMARY:Il diritto di essere donna. Il Gender gap nella leadership
DESCRIPTION:Link for the registration: mariella@iol.it\n \n  \nLink for the registration: mariella@iol.it
URL:https://uae.lu/event/il-diritto-di-essere-donna-il-gender-gap-nella-leadership/
LOCATION:NAPOLI – Palazzo di Giustizia\, Sala Metafora\, Centro Direzionale\, Centro Direzionale Isola E7\, Napoli\, 80143\, Italy
CATEGORIES:Conferences,Past Event
END:VEVENT
BEGIN:VEVENT
DTSTART;TZID=Europe/Paris:20241213T093000
DTEND;TZID=Europe/Paris:20241213T183000
DTSTAMP:20260425T135844
CREATED:20241205T174731Z
LAST-MODIFIED:20241205T175636Z
UID:24466-1734082200-1734114600@uae.lu
SUMMARY:L'evoluzione del sistema sanzionatorio penale tributario europeo
DESCRIPTION:Link for the registration segreteriamarsella@gmail.com \n \nLink for the registration segreteriamarsella@gmail.com
URL:https://uae.lu/event/24466/
LOCATION:Art hotel & Park Lecce\, art hotel & park lecce Via de Chirico Giorgio\, 1\, Lecce LE\, 73100\, Italy
CATEGORIES:Conferences,Past Event
ATTACH;FMTTYPE=image/png:https://uae.lu/wp-content/uploads/2024/12/evoluzione-del-sistema-sanzionatorio-carrousel.png
ORGANIZER;CN="Avv. Dario Marsella%2C President of the Tax Law Commission":MAILTO:uaetaxcommission@gmail.com
END:VEVENT
BEGIN:VEVENT
DTSTART;TZID=Europe/Paris:20250130T110000
DTEND;TZID=Europe/Paris:20250130T140000
DTSTAMP:20260425T135844
CREATED:20250129T105459Z
LAST-MODIFIED:20250129T105459Z
UID:24491-1738234800-1738245600@uae.lu
SUMMARY:Technical- practical course of Immigration Law - Lesson 1
DESCRIPTION:Link for the registration: avvocati@studiolegalemigliaccio.com\n \nLink for the registration: avvocati@studiolegalemigliaccio.com\n  \n      
URL:https://uae.lu/event/technical-practical-course-of-immigration-law-lesson-1/
LOCATION:NAPOLI – Nuovo Palazzo di Giustizia – Aula Metafora\, Piazza Cenni\, Napoly\, 80137\, Italy
CATEGORIES:Course,Past Event
END:VEVENT
BEGIN:VEVENT
DTSTART;TZID=Europe/Paris:20250226T123000
DTEND;TZID=Europe/Paris:20250226T153000
DTSTAMP:20260425T135844
CREATED:20250204T164740Z
LAST-MODIFIED:20250204T165443Z
UID:24571-1740573000-1740583800@uae.lu
SUMMARY:Bioetica e tutela dei diritti umani
DESCRIPTION:Link for the registration: mariella@iol.it \n \nLink for the registration: mariella@iol.it
URL:https://uae.lu/event/bioetica-e-tutela-dei-diritti-umani/
LOCATION:NAPOLI – Palazzo di Giustizia\, Sala Metafora\, Centro Direzionale\, Centro Direzionale Isola E7\, Napoli\, 80143\, Italy
CATEGORIES:Conferences,Past Event
END:VEVENT
BEGIN:VEVENT
DTSTART;TZID=Europe/Paris:20250227T120000
DTEND;TZID=Europe/Paris:20250227T150000
DTSTAMP:20260425T135844
CREATED:20250226T144710Z
LAST-MODIFIED:20250226T145002Z
UID:24918-1740657600-1740668400@uae.lu
SUMMARY:Technical- practical course of Immigration Law (Second lesson)
DESCRIPTION:Link for the registration: avvocati@studiolegalemigliaccio.com\n           \n  \nLink for the registration: avvocati@studiolegalemigliaccio.com\n  \n  \n  \n 
URL:https://uae.lu/event/technical-practical-course-of-immigration-law-second-lesson/
LOCATION:NAPOLI – Nuovo Palazzo di Giustizia – Aula Metafora\, Piazza Cenni\, Napoly\, 80137\, Italy
CATEGORIES:Course,Past Event
END:VEVENT
BEGIN:VEVENT
DTSTART;TZID=Europe/Paris:20250326T110000
DTEND;TZID=Europe/Paris:20250326T140000
DTSTAMP:20260425T135844
CREATED:20250319T093220Z
LAST-MODIFIED:20250319T093415Z
UID:24992-1742986800-1742997600@uae.lu
SUMMARY:3rd Lesson : Technical- practical course of Immigration Law
DESCRIPTION:Link for the registration: avvocati@studiolegalemigliaccio.com\n          .      \n  \nLink for the registration: avvocati@studiolegalemigliaccio.com
URL:https://uae.lu/event/3rd-lesson-technical-practical-course-of-immigration-law/
CATEGORIES:Course,Past Event
END:VEVENT
BEGIN:VEVENT
DTSTART;TZID=Europe/Paris:20250327T193000
DTEND;TZID=Europe/Paris:20250327T233000
DTSTAMP:20260425T135844
CREATED:20250313T161035Z
LAST-MODIFIED:20250313T232246Z
UID:24966-1743103800-1743118200@uae.lu
SUMMARY:La Cooperazione giudiziaria europea in materia penale e le garanzie difensive
DESCRIPTION:Link for the registration: uaemilano@gmail.com (see participation form)\n \nLink for the registration: uaemilano@gmail.com (see participation form)
URL:https://uae.lu/event/la-cooperazione-giudiziaria-europea-in-materia-penale-e-le-garanzie-difensive/
LOCATION:Società del Giardino – Via San Paolo 10 – Milano\, Società del Giardino\, Via San Paolo 10\, Milano\, Italy
CATEGORIES:Conferences,Past Event
ORGANIZER;CN="Avv. Lucio Camaldo":MAILTO:uaemilano@gmail.com
END:VEVENT
BEGIN:VEVENT
DTSTART;TZID=Europe/Paris:20250404T090000
DTEND;TZID=Europe/Paris:20250404T130000
DTSTAMP:20260425T135844
CREATED:20250222T090245Z
LAST-MODIFIED:20250411T103114Z
UID:24895-1743757200-1743771600@uae.lu
SUMMARY:Mod 231- Applicazione nelle società di gestione dei sevizi aeroportuali e di trasporto pubblico
DESCRIPTION:Link for the registration: studiolegalebruccoleri@gmail.com\n \n\n\n \nLink for the registration: studiolegalebruccoleri@gmail.com\n 
URL:https://uae.lu/event/mod-231-applicazione-nelle-societa-di-gestione-dei-sevizi-aeroportuali-e-di-trasporto-pubblico/
LOCATION:PALERMO – Sala Meeting dell’Autorità di Sistema Portuale del Mare di Sicilia occidentale – Calata marinai d’Italia – Porto di Palermo\, Calata marinai d’Italia – Porto di Palermo\, paleme\, 49J6+W9\, Italy
CATEGORIES:Conferences,Past Event
END:VEVENT
BEGIN:VEVENT
DTSTART;TZID=Europe/Paris:20250404T150000
DTEND;TZID=Europe/Paris:20250404T190000
DTSTAMP:20260425T135844
CREATED:20250331T093501Z
LAST-MODIFIED:20250331T093639Z
UID:25095-1743778800-1743793200@uae.lu
SUMMARY:Legge di Bilancio e Riforma Fiscale: opportunità per i contribuenti e profili sovra-nazionali
DESCRIPTION:Link for the registration: segreteriamarsella@gmail.com\n \n  \n  \nLink for the registration: segreteriamarsella@gmail.com
URL:https://uae.lu/event/legge-di-bilancio-e-riforma-fiscale-opportunita-per-i-contribuenti-e-profili-sovra-nazionali/
LOCATION:MAGLIE (LE) – Biblioteca “Alca” Maglie\, Italy
CATEGORIES:Conferences,Past Event
END:VEVENT
BEGIN:VEVENT
DTSTART;TZID=Europe/Paris:20250408T080000
DTEND;TZID=Europe/Paris:20250507T235900
DTSTAMP:20260425T135844
CREATED:20250408T113252Z
LAST-MODIFIED:20250421T193820Z
UID:25111-1744099200-1746662340@uae.lu
SUMMARY:YOUNG LAWYERS SCHOLARSHIP 2025 – BOURSE JEUNES AVOCATS 2025
DESCRIPTION:YOUNG LAWYERS SCHOLARSHIP 2025\nThe U.A.E. Scholarship aims to promote the participation of young lawyers in the activities of the U.A.E.\, by awarding 2 years free membership and an invitation to the 2025 Annual Congress in Lecce (Italy).\nThe application form (in English or in French) and essay must be sent by e-mail to contact@uae.lu before midnight CET on May 7 2025.\n\nBOURSE JEUNES AVOCATS 2025\nLa Bourse de l’U.A.E. vise à promouvoir la participation de jeunes avocats aux activités de l’U.A.E.\, en leur offrant 2 ans d’adhésion gratuite et en les invitant au Congrès Annuel 2025 in Lecce (Italie).\nLe formulaire de demande (redigé en anglais ou en français) et le mémoire doivent être adressés par email à l’adresse contact@uae.lu avant le 7 Mai 2025 à minuit HEC.
URL:https://uae.lu/event/young-lawyers-scholarship-2025-bourse-jeunes-avocats-2025/
CATEGORIES:Conferences,Past Event,Scholarship
END:VEVENT
BEGIN:VEVENT
DTSTART;TZID=Europe/Paris:20250416T120000
DTEND;TZID=Europe/Paris:20250416T130000
DTSTAMP:20260425T135844
CREATED:20250322T143243Z
LAST-MODIFIED:20250322T155721Z
UID:25030-1744804800-1744808400@uae.lu
SUMMARY:Presentation of the Association – reflections on class-action against Volkswagen
DESCRIPTION:
URL:https://uae.lu/event/presentation-of-the-association-reflections-on-class-action-against-volkswagen/
LOCATION:Online
CATEGORIES:Conferences,Past Event
END:VEVENT
BEGIN:VEVENT
DTSTART;TZID=Europe/Paris:20250424T110000
DTEND;TZID=Europe/Paris:20250424T140000
DTSTAMP:20260425T135844
CREATED:20250420T151431Z
LAST-MODIFIED:20250420T151431Z
UID:25151-1745492400-1745503200@uae.lu
SUMMARY:4rth Lesson - Technical- practical course of Immigration Law
DESCRIPTION:Link for the registration: avvocati@studiolegalemigliaccio.com\n    \n  \nLink for the registration: avvocati@studiolegalemigliaccio.com
URL:https://uae.lu/event/4rth-lesson-technical-practical-course-of-immigration-law/
LOCATION:NAPOLI – Nuovo Palazzo di Giustizia – Aula Metafora\, Piazza Cenni\, Napoly\, 80137\, Italy
CATEGORIES:Course,Past Event
END:VEVENT
END:VCALENDAR