BEGIN:VCALENDAR
VERSION:2.0
PRODID:-//U.A.E. European Lawyers’ Union - ECPv6.15.20//NONSGML v1.0//EN
CALSCALE:GREGORIAN
METHOD:PUBLISH
X-ORIGINAL-URL:https://uae.lu
X-WR-CALDESC:Events for U.A.E. European Lawyers’ Union
REFRESH-INTERVAL;VALUE=DURATION:PT1H
X-Robots-Tag:noindex
X-PUBLISHED-TTL:PT1H
BEGIN:VTIMEZONE
TZID:Europe/Paris
BEGIN:DAYLIGHT
TZOFFSETFROM:+0100
TZOFFSETTO:+0200
TZNAME:CEST
DTSTART:20190331T010000
END:DAYLIGHT
BEGIN:STANDARD
TZOFFSETFROM:+0200
TZOFFSETTO:+0100
TZNAME:CET
DTSTART:20191027T010000
END:STANDARD
BEGIN:DAYLIGHT
TZOFFSETFROM:+0100
TZOFFSETTO:+0200
TZNAME:CEST
DTSTART:20200329T010000
END:DAYLIGHT
BEGIN:STANDARD
TZOFFSETFROM:+0200
TZOFFSETTO:+0100
TZNAME:CET
DTSTART:20201025T010000
END:STANDARD
BEGIN:DAYLIGHT
TZOFFSETFROM:+0100
TZOFFSETTO:+0200
TZNAME:CEST
DTSTART:20210328T010000
END:DAYLIGHT
BEGIN:STANDARD
TZOFFSETFROM:+0200
TZOFFSETTO:+0100
TZNAME:CET
DTSTART:20211031T010000
END:STANDARD
END:VTIMEZONE
BEGIN:VEVENT
DTSTART;TZID=Europe/Paris:20200605T153000
DTEND;TZID=Europe/Paris:20200605T180000
DTSTAMP:20260423T192833
CREATED:20201113T114011Z
LAST-MODIFIED:20201113T114414Z
UID:18152-1591371000-1591380000@uae.lu
SUMMARY:LA LEGISLATION D’URGENCE COVID-19 ET SES CONSEQUENCES DANS LE DOMAINE FISCAL - THE COVID-19 EMERGENCY LEGISLATION AND ITS CONSEQUENCES IN THE FISCAL SECTOR
DESCRIPTION:  \nCONFÉRENCE ORGANISÉE PAR LA COMMISSION «DROIT FISCAL». \nCONFERENCE ORGANISED BY THE “TAX LAW” COMMISSION. \n  \nPROGRAMME
URL:https://uae.lu/event/la-legislation-durgence-covid-19-et-ses-consequences-dans-le-domaine-fiscal-the-covid-19-emergency-legislation-and-its-consequences-in-the-fiscal-sector/
LOCATION:Online
CATEGORIES:Conferences,Past Event
ORGANIZER;CN="Tax Law Commission":MAILTO:segreteriamarsella@gmail.com
END:VEVENT
END:VCALENDAR