BEGIN:VCALENDAR
VERSION:2.0
PRODID:-//U.A.E. European Lawyers’ Union - ECPv6.15.20//NONSGML v1.0//EN
CALSCALE:GREGORIAN
METHOD:PUBLISH
X-ORIGINAL-URL:https://uae.lu
X-WR-CALDESC:Events for U.A.E. European Lawyers’ Union
REFRESH-INTERVAL;VALUE=DURATION:PT1H
X-Robots-Tag:noindex
X-PUBLISHED-TTL:PT1H
BEGIN:VTIMEZONE
TZID:Europe/Paris
BEGIN:DAYLIGHT
TZOFFSETFROM:+0100
TZOFFSETTO:+0200
TZNAME:CEST
DTSTART:20180325T010000
END:DAYLIGHT
BEGIN:STANDARD
TZOFFSETFROM:+0200
TZOFFSETTO:+0100
TZNAME:CET
DTSTART:20181028T010000
END:STANDARD
BEGIN:DAYLIGHT
TZOFFSETFROM:+0100
TZOFFSETTO:+0200
TZNAME:CEST
DTSTART:20190331T010000
END:DAYLIGHT
BEGIN:STANDARD
TZOFFSETFROM:+0200
TZOFFSETTO:+0100
TZNAME:CET
DTSTART:20191027T010000
END:STANDARD
BEGIN:DAYLIGHT
TZOFFSETFROM:+0100
TZOFFSETTO:+0200
TZNAME:CEST
DTSTART:20200329T010000
END:DAYLIGHT
BEGIN:STANDARD
TZOFFSETFROM:+0200
TZOFFSETTO:+0100
TZNAME:CET
DTSTART:20201025T010000
END:STANDARD
END:VTIMEZONE
BEGIN:VEVENT
DTSTART;TZID=Europe/Paris:20190906T090000
DTEND;TZID=Europe/Paris:20190906T180000
DTSTAMP:20260424T130232
CREATED:20190624T171734Z
LAST-MODIFIED:20191014T091952Z
UID:6032-1567760400-1567792800@uae.lu
SUMMARY:BONNES PRATIQUES POUR LE PAYSAGE / GOOD PRACTICES FOR THE LANDSCAPE
DESCRIPTION:UNIVERSITÉ D’ÉTÉ \nSujet : “BONNES PRATIQUES POUR LE PAYSAGE”\norganisée par la Commission du Droit Pénal de l’U.A.E. \nSUMMER UNIVERSITY \nSubject : “GOOD PRACTICES FOR THE LANDSCAPE”\norganized by the U.A.E. Criminal Law Commission. \nTÉLÉCHARGER PROGRAMME / DOWNLOAD PROGRAMME
URL:https://uae.lu/event/bonnes-pratiques-pour-le-paysage-good-practices-for-the-landscape/
LOCATION:University of Bergamo\, Piazzale S. Agostino\, 2\, Bergamo\, 24129\, Italy
CATEGORIES:Conferences,Past Event
ORGANIZER;CN="Avv. Giovanni Bana (President of the Criminal Law Commission)":MAILTO:gb@studiobana.it
END:VEVENT
END:VCALENDAR