BEGIN:VCALENDAR
VERSION:2.0
PRODID:-//U.A.E. European Lawyers’ Union - ECPv6.15.20//NONSGML v1.0//EN
CALSCALE:GREGORIAN
METHOD:PUBLISH
X-WR-CALNAME:U.A.E. European Lawyers’ Union
X-ORIGINAL-URL:https://uae.lu
X-WR-CALDESC:Events for U.A.E. European Lawyers’ Union
REFRESH-INTERVAL;VALUE=DURATION:PT1H
X-Robots-Tag:noindex
X-PUBLISHED-TTL:PT1H
BEGIN:VTIMEZONE
TZID:Europe/Paris
BEGIN:DAYLIGHT
TZOFFSETFROM:+0100
TZOFFSETTO:+0200
TZNAME:CEST
DTSTART:20180325T010000
END:DAYLIGHT
BEGIN:STANDARD
TZOFFSETFROM:+0200
TZOFFSETTO:+0100
TZNAME:CET
DTSTART:20181028T010000
END:STANDARD
BEGIN:DAYLIGHT
TZOFFSETFROM:+0100
TZOFFSETTO:+0200
TZNAME:CEST
DTSTART:20190331T010000
END:DAYLIGHT
BEGIN:STANDARD
TZOFFSETFROM:+0200
TZOFFSETTO:+0100
TZNAME:CET
DTSTART:20191027T010000
END:STANDARD
BEGIN:DAYLIGHT
TZOFFSETFROM:+0100
TZOFFSETTO:+0200
TZNAME:CEST
DTSTART:20200329T010000
END:DAYLIGHT
BEGIN:STANDARD
TZOFFSETFROM:+0200
TZOFFSETTO:+0100
TZNAME:CET
DTSTART:20201025T010000
END:STANDARD
END:VTIMEZONE
BEGIN:VEVENT
DTSTART;TZID=Europe/Paris:20190726T100000
DTEND;TZID=Europe/Paris:20190726T130000
DTSTAMP:20260424T161250
CREATED:20190725T143413Z
LAST-MODIFIED:20191014T092033Z
UID:6231-1564135200-1564146000@uae.lu
SUMMARY:“CREA” PROJECT: CONFLICT RESOLUTION WITH EQUITATIVE ALGORITHMS
DESCRIPTION:PRESENTATION “CREA” PROJECT: CONFLICT RESOLUTION WITH EQUITATIVE ALGORITHMS \nDOWNLOAD PROGRAMME - ENGLISH\nDOWNLOAD PROGRAMME - ITALIANO
URL:https://uae.lu/event/crea-project-conflict-resolution-with-equitative-algorithms/
LOCATION:STUDIO EJC – Roberti & Associati\, Place du Grand Sablon\, 36\, Bruxelles\, B-1000\, Belgium
CATEGORIES:Conferences,Past Event
ORGANIZER;CN="Avv. Francesco AVOLIO":MAILTO:avvfrancescoavolio@gmail.com
END:VEVENT
END:VCALENDAR