BEGIN:VCALENDAR
VERSION:2.0
PRODID:-//U.A.E. European Lawyers’ Union - ECPv6.15.20//NONSGML v1.0//EN
CALSCALE:GREGORIAN
METHOD:PUBLISH
X-ORIGINAL-URL:https://uae.lu
X-WR-CALDESC:Events for U.A.E. European Lawyers’ Union
REFRESH-INTERVAL;VALUE=DURATION:PT1H
X-Robots-Tag:noindex
X-PUBLISHED-TTL:PT1H
BEGIN:VTIMEZONE
TZID:Europe/Paris
BEGIN:DAYLIGHT
TZOFFSETFROM:+0100
TZOFFSETTO:+0200
TZNAME:CEST
DTSTART:20180325T010000
END:DAYLIGHT
BEGIN:STANDARD
TZOFFSETFROM:+0200
TZOFFSETTO:+0100
TZNAME:CET
DTSTART:20181028T010000
END:STANDARD
BEGIN:DAYLIGHT
TZOFFSETFROM:+0100
TZOFFSETTO:+0200
TZNAME:CEST
DTSTART:20190331T010000
END:DAYLIGHT
BEGIN:STANDARD
TZOFFSETFROM:+0200
TZOFFSETTO:+0100
TZNAME:CET
DTSTART:20191027T010000
END:STANDARD
BEGIN:DAYLIGHT
TZOFFSETFROM:+0100
TZOFFSETTO:+0200
TZNAME:CEST
DTSTART:20200329T010000
END:DAYLIGHT
BEGIN:STANDARD
TZOFFSETFROM:+0200
TZOFFSETTO:+0100
TZNAME:CET
DTSTART:20201025T010000
END:STANDARD
END:VTIMEZONE
BEGIN:VEVENT
DTSTART;TZID=Europe/Paris:20190614T093000
DTEND;TZID=Europe/Paris:20190614T123000
DTSTAMP:20260424T174832
CREATED:20190514T183608Z
LAST-MODIFIED:20191014T092020Z
UID:5584-1560504600-1560515400@uae.lu
SUMMARY:BUSINESS CRISIS. NATIONAL PROFILES AND EUROPEAN MARKET. NETWORK OPPORTUNITIES BETWEEN SMALL AND MEDIUM ENTERPRISES / CRISE ÉCONOMIQUE. PROFILS NATIONAUX ET MARCHÉ EUROPÉEN. LES OPPORTUNITÉS DU RÉSEAU ENTRE PETITES ET MOYENNES ENTREPRISES.
DESCRIPTION:Conference on the subject : “BUSINESS CRISIS. NATIONAL PROFILES AND EUROPEAN MARKET. NETWORK OPPORTUNITIES BETWEEN SMALL AND MEDIUM ENTERPRISES.” \nConférence sur le sujet : “CRISE ÉCONOMIQUE. PROFILS NATIONAUX ET MARCHÉ EUROPÉEN. LES OPPORTUNITÉS DU RÉSEAU ENTRE PETITES ET MOYENNES ENTREPRISES.” \nDOWNLOAD PROGRAMME
URL:https://uae.lu/event/business-crisis-crise-economique/
LOCATION:Sicindustria\, Via XX Settembre\, n. 64 – Palermo (PA)\, Via XX Settembre\, 64\, Palermo\, Italy
CATEGORIES:Conferences,Past Event
ORGANIZER;CN="Avv. Maria Bruccoleri%2C President of the Palermo and western Sicily U.A.E. Delegation":MAILTO:unioneavvocatieuropei.palermo@gmail.com
END:VEVENT
END:VCALENDAR