BEGIN:VCALENDAR
VERSION:2.0
PRODID:-//U.A.E. European Lawyers’ Union - ECPv6.15.20//NONSGML v1.0//EN
CALSCALE:GREGORIAN
METHOD:PUBLISH
X-WR-CALNAME:U.A.E. European Lawyers’ Union
X-ORIGINAL-URL:https://uae.lu
X-WR-CALDESC:Events for U.A.E. European Lawyers’ Union
REFRESH-INTERVAL;VALUE=DURATION:PT1H
X-Robots-Tag:noindex
X-PUBLISHED-TTL:PT1H
BEGIN:VTIMEZONE
TZID:Europe/Paris
BEGIN:DAYLIGHT
TZOFFSETFROM:+0100
TZOFFSETTO:+0200
TZNAME:CEST
DTSTART:20180325T010000
END:DAYLIGHT
BEGIN:STANDARD
TZOFFSETFROM:+0200
TZOFFSETTO:+0100
TZNAME:CET
DTSTART:20181028T010000
END:STANDARD
BEGIN:DAYLIGHT
TZOFFSETFROM:+0100
TZOFFSETTO:+0200
TZNAME:CEST
DTSTART:20190331T010000
END:DAYLIGHT
BEGIN:STANDARD
TZOFFSETFROM:+0200
TZOFFSETTO:+0100
TZNAME:CET
DTSTART:20191027T010000
END:STANDARD
BEGIN:DAYLIGHT
TZOFFSETFROM:+0100
TZOFFSETTO:+0200
TZNAME:CEST
DTSTART:20200329T010000
END:DAYLIGHT
BEGIN:STANDARD
TZOFFSETFROM:+0200
TZOFFSETTO:+0100
TZNAME:CET
DTSTART:20201025T010000
END:STANDARD
END:VTIMEZONE
BEGIN:VEVENT
DTSTART;TZID=Europe/Paris:20190322T180000
DTEND;TZID=Europe/Paris:20190322T230000
DTSTAMP:20260424T222827
CREATED:20181129T135109Z
LAST-MODIFIED:20190422T112523Z
UID:3984-1553277600-1553295600@uae.lu
SUMMARY:CONFÉRENCE INTERNATIONALE - INTERNATIONAL CONFERENCE "LES ACTUALITÉS DE LA PROCRÉATION"
DESCRIPTION:CONFÉRENCE INTERNATIONALE – INTERNATIONAL CONFERENCE \nSubject : LES ACTUALITÉS DE LA PROCRÉATION \n“La procréation médicalement assistée\, la gestation pour autrui et la notion de parentalité non genrée en Europe” \nDOWNLOAD PROGRAMME
URL:https://uae.lu/event/conference-internationale-les-actualites-de-la-procreation/
LOCATION:Restaurant “Les Arcenaulx”\, Marseille\, 25 Cours d’Estiennes d’Orves\, Marseille\, 13001\, France
CATEGORIES:Past Event
ORGANIZER;CN="Mr. G%C3%A9rard ABITBOL":MAILTO:abitbolge@numericable.fr
END:VEVENT
END:VCALENDAR