BEGIN:VCALENDAR
VERSION:2.0
PRODID:-//U.A.E. European Lawyers’ Union - ECPv6.15.20//NONSGML v1.0//EN
CALSCALE:GREGORIAN
METHOD:PUBLISH
X-ORIGINAL-URL:https://uae.lu
X-WR-CALDESC:Events for U.A.E. European Lawyers’ Union
REFRESH-INTERVAL;VALUE=DURATION:PT1H
X-Robots-Tag:noindex
X-PUBLISHED-TTL:PT1H
BEGIN:VTIMEZONE
TZID:Europe/Paris
BEGIN:DAYLIGHT
TZOFFSETFROM:+0100
TZOFFSETTO:+0200
TZNAME:CEST
DTSTART:20170326T010000
END:DAYLIGHT
BEGIN:STANDARD
TZOFFSETFROM:+0200
TZOFFSETTO:+0100
TZNAME:CET
DTSTART:20171029T010000
END:STANDARD
BEGIN:DAYLIGHT
TZOFFSETFROM:+0100
TZOFFSETTO:+0200
TZNAME:CEST
DTSTART:20180325T010000
END:DAYLIGHT
BEGIN:STANDARD
TZOFFSETFROM:+0200
TZOFFSETTO:+0100
TZNAME:CET
DTSTART:20181028T010000
END:STANDARD
BEGIN:DAYLIGHT
TZOFFSETFROM:+0100
TZOFFSETTO:+0200
TZNAME:CEST
DTSTART:20190331T010000
END:DAYLIGHT
BEGIN:STANDARD
TZOFFSETFROM:+0200
TZOFFSETTO:+0100
TZNAME:CET
DTSTART:20191027T010000
END:STANDARD
END:VTIMEZONE
BEGIN:VEVENT
DTSTART;TZID=Europe/Paris:20181117T100000
DTEND;TZID=Europe/Paris:20181117T130000
DTSTAMP:20260425T043501
CREATED:20181018T102935Z
LAST-MODIFIED:20190422T112459Z
UID:3135-1542448800-1542459600@uae.lu
SUMMARY:SICUREZZA DEL VOLO E RICAMBI AERONAUTICI NON APPROVATI O CONTRAFFATTI: STRUMENTI DI TUTELA E RESPONSABILITA’ NEL DIRITTO TRANSNAZIONALE ED EUROPEO
DESCRIPTION:DOWNLOAD PROGRAMME\nTELECHARGER LE PROGRAMME
URL:https://uae.lu/event/sicurezza-del-volo-e-ricambi-aeronautici-non-approvati-o-contraffatti-strumenti-di-tutela-e-responsabilita-nel-diritto-transnazionale-ed-europeo/
LOCATION:Sala Convegni -Area Ex officine Aeronautiche Caproni Via per Tornavento n.15\, Case Nuove 21019 Somma L.do (VA)\, Area Ex officine Aeronautiche Caproni Via per Tornavento 15\, Case Nuove 21019 Somma L.do (VA)\, SOMMA LOMBARDO\, VA\, 21019\, Italy
CATEGORIES:Past Event
END:VEVENT
END:VCALENDAR