BEGIN:VCALENDAR
VERSION:2.0
PRODID:-//U.A.E. European Lawyers’ Union - ECPv6.15.20//NONSGML v1.0//EN
CALSCALE:GREGORIAN
METHOD:PUBLISH
X-ORIGINAL-URL:https://uae.lu
X-WR-CALDESC:Events for U.A.E. European Lawyers’ Union
REFRESH-INTERVAL;VALUE=DURATION:PT1H
X-Robots-Tag:noindex
X-PUBLISHED-TTL:PT1H
BEGIN:VTIMEZONE
TZID:Europe/Paris
BEGIN:DAYLIGHT
TZOFFSETFROM:+0100
TZOFFSETTO:+0200
TZNAME:CEST
DTSTART:20170326T010000
END:DAYLIGHT
BEGIN:STANDARD
TZOFFSETFROM:+0200
TZOFFSETTO:+0100
TZNAME:CET
DTSTART:20171029T010000
END:STANDARD
BEGIN:DAYLIGHT
TZOFFSETFROM:+0100
TZOFFSETTO:+0200
TZNAME:CEST
DTSTART:20180325T010000
END:DAYLIGHT
BEGIN:STANDARD
TZOFFSETFROM:+0200
TZOFFSETTO:+0100
TZNAME:CET
DTSTART:20181028T010000
END:STANDARD
BEGIN:DAYLIGHT
TZOFFSETFROM:+0100
TZOFFSETTO:+0200
TZNAME:CEST
DTSTART:20190331T010000
END:DAYLIGHT
BEGIN:STANDARD
TZOFFSETFROM:+0200
TZOFFSETTO:+0100
TZNAME:CET
DTSTART:20191027T010000
END:STANDARD
END:VTIMEZONE
BEGIN:VEVENT
DTSTART;TZID=Europe/Paris:20181107T150000
DTEND;TZID=Europe/Paris:20181107T180000
DTSTAMP:20260425T043501
CREATED:20181026T123317Z
LAST-MODIFIED:20190422T112400Z
UID:3207-1541602800-1541613600@uae.lu
SUMMARY:IL RECLAMO - MEDIAZIONE E GLI ALTRI STRUMENTI DI DEFINIZIONE STRAGIUDIZIALE DELLA CONTROVERSIA FISCALE
DESCRIPTION:DOWNLOAD PROGRAMME\nTELECHARGER LE PROGRAMME
URL:https://uae.lu/event/il-reclamo-mediazione/
LOCATION:SEDE DELL’ORDINE DEI DOTTORI COMMERCIALISTI E DEGLI ESPERTI CONTABILI DI PALERMO\, Via Emerico Amari\, 11\, Palermo\, 90139\, Italy
CATEGORIES:Past Event
END:VEVENT
END:VCALENDAR