BEGIN:VCALENDAR
VERSION:2.0
PRODID:-//U.A.E. European Lawyers’ Union - ECPv6.15.20//NONSGML v1.0//EN
CALSCALE:GREGORIAN
METHOD:PUBLISH
X-WR-CALNAME:U.A.E. European Lawyers’ Union
X-ORIGINAL-URL:https://uae.lu
X-WR-CALDESC:Events for U.A.E. European Lawyers’ Union
REFRESH-INTERVAL;VALUE=DURATION:PT1H
X-Robots-Tag:noindex
X-PUBLISHED-TTL:PT1H
BEGIN:VTIMEZONE
TZID:Europe/Paris
BEGIN:DAYLIGHT
TZOFFSETFROM:+0100
TZOFFSETTO:+0200
TZNAME:CEST
DTSTART:20170326T010000
END:DAYLIGHT
BEGIN:STANDARD
TZOFFSETFROM:+0200
TZOFFSETTO:+0100
TZNAME:CET
DTSTART:20171029T010000
END:STANDARD
BEGIN:DAYLIGHT
TZOFFSETFROM:+0100
TZOFFSETTO:+0200
TZNAME:CEST
DTSTART:20180325T010000
END:DAYLIGHT
BEGIN:STANDARD
TZOFFSETFROM:+0200
TZOFFSETTO:+0100
TZNAME:CET
DTSTART:20181028T010000
END:STANDARD
BEGIN:DAYLIGHT
TZOFFSETFROM:+0100
TZOFFSETTO:+0200
TZNAME:CEST
DTSTART:20190331T010000
END:DAYLIGHT
BEGIN:STANDARD
TZOFFSETFROM:+0200
TZOFFSETTO:+0100
TZNAME:CET
DTSTART:20191027T010000
END:STANDARD
END:VTIMEZONE
BEGIN:VEVENT
DTSTART;TZID=Europe/Paris:20180529T143000
DTEND;TZID=Europe/Paris:20180529T183000
DTSTAMP:20260425T134342
CREATED:20180523T082458Z
LAST-MODIFIED:20191204T082945Z
UID:1091-1527604200-1527618600@uae.lu
SUMMARY:The Punitive Damage Conference
DESCRIPTION:IL DANNO PUNITIVO \nLA SENTENZA N. 16601/2017 DELLE SEZIONI UNITE ED I RIFLESSI NELL‘ORDINAMENTO ITALIANO. VOCI A CONFRONTO \nLa partecipazione è gratuita. Verranno accettate esclusivamente le richieste ricevute telematicamente attraverso l’area riservata Sfera alla quale si potrà accedere dal link presente sulla pagina dell’evento pubblicato sul sito www.fondazioneforensefirenze.it \nDOWNLOAD PROGRAMME
URL:https://uae.lu/event/the-punitive-damage-conference/
LOCATION:Auditorium “Adone Zoli” dell’Ordine degli Avvocati di Firenze\, Viale Alessandro Guidoni\, 61\, Firenze\, Italy
CATEGORIES:Past Event
END:VEVENT
END:VCALENDAR