BEGIN:VCALENDAR
VERSION:2.0
PRODID:-//U.A.E. European Lawyers’ Union - ECPv6.15.20//NONSGML v1.0//EN
CALSCALE:GREGORIAN
METHOD:PUBLISH
X-WR-CALNAME:U.A.E. European Lawyers’ Union
X-ORIGINAL-URL:https://uae.lu
X-WR-CALDESC:Events for U.A.E. European Lawyers’ Union
REFRESH-INTERVAL;VALUE=DURATION:PT1H
X-Robots-Tag:noindex
X-PUBLISHED-TTL:PT1H
BEGIN:VTIMEZONE
TZID:Europe/Paris
BEGIN:DAYLIGHT
TZOFFSETFROM:+0100
TZOFFSETTO:+0200
TZNAME:CEST
DTSTART:20170326T010000
END:DAYLIGHT
BEGIN:STANDARD
TZOFFSETFROM:+0200
TZOFFSETTO:+0100
TZNAME:CET
DTSTART:20171029T010000
END:STANDARD
BEGIN:DAYLIGHT
TZOFFSETFROM:+0100
TZOFFSETTO:+0200
TZNAME:CEST
DTSTART:20180325T010000
END:DAYLIGHT
BEGIN:STANDARD
TZOFFSETFROM:+0200
TZOFFSETTO:+0100
TZNAME:CET
DTSTART:20181028T010000
END:STANDARD
BEGIN:DAYLIGHT
TZOFFSETFROM:+0100
TZOFFSETTO:+0200
TZNAME:CEST
DTSTART:20190331T010000
END:DAYLIGHT
BEGIN:STANDARD
TZOFFSETFROM:+0200
TZOFFSETTO:+0100
TZNAME:CET
DTSTART:20191027T010000
END:STANDARD
END:VTIMEZONE
BEGIN:VEVENT
DTSTART;TZID=Europe/Paris:20180524T090000
DTEND;TZID=Europe/Paris:20180525T180000
DTSTAMP:20260425T152939
CREATED:20180523T080316Z
LAST-MODIFIED:20190422T112258Z
UID:1083-1527152400-1527271200@uae.lu
SUMMARY:XIII Conference – Antitrust between EU law and National law
DESCRIPTION:  \nThe Conference “Antitrust between EU law and national law“\, now in its thirteenth edition\, has been held since 1992\, every two years\, at Fondazione Cassamarca in Treviso and is supported by UAE (Union des Avocats Européens)\, LIDC (Ligue Internationale Droit de la Concurrence)\, AIGI (Associazione Italiana dei Giuristi di Impresa)\, ECLA (European Company Lawyers Association)\, AAI (Associazione Antitrust Italiana) and Centro di Eccellenza Jean Monnet of the University of Milan. \nThe topical issues and the high qualified speakers made the conference\, from the first edition\, one of the most significant opportunity for interaction between the main representatives of the Antitrust World\, both at national and international level. Indeed\, the conference has always had among its participants members of Antitrust Authorities as well as notable professionals and academics representatives involved in the antitrust enforcement. \nREGISTER ONLINE\nDOWNLOAD PROGRAMME
URL:https://uae.lu/event/xiii-conference-antitrust-between-eu-law-and-national-law/
LOCATION:Casa dei Carraresi – Treviso\, Via Palestro 33\, Treviso\, 31100 \, Italy
CATEGORIES:Past Event
ORGANIZER;CN="Avv. Enrico Adriano RAFFAELLI - President of the U.A.E. Competition Law Commission":MAILTO:treviso@rucellaieraffaelli.it
END:VEVENT
END:VCALENDAR