BEGIN:VCALENDAR
VERSION:2.0
PRODID:-//U.A.E. European Lawyers’ Union - ECPv6.15.20//NONSGML v1.0//EN
CALSCALE:GREGORIAN
METHOD:PUBLISH
X-ORIGINAL-URL:https://uae.lu
X-WR-CALDESC:Events for U.A.E. European Lawyers’ Union
REFRESH-INTERVAL;VALUE=DURATION:PT1H
X-Robots-Tag:noindex
X-PUBLISHED-TTL:PT1H
BEGIN:VTIMEZONE
TZID:Europe/Paris
BEGIN:DAYLIGHT
TZOFFSETFROM:+0100
TZOFFSETTO:+0200
TZNAME:CEST
DTSTART:20180325T010000
END:DAYLIGHT
BEGIN:STANDARD
TZOFFSETFROM:+0200
TZOFFSETTO:+0100
TZNAME:CET
DTSTART:20181028T010000
END:STANDARD
BEGIN:DAYLIGHT
TZOFFSETFROM:+0100
TZOFFSETTO:+0200
TZNAME:CEST
DTSTART:20190331T010000
END:DAYLIGHT
BEGIN:STANDARD
TZOFFSETFROM:+0200
TZOFFSETTO:+0100
TZNAME:CET
DTSTART:20191027T010000
END:STANDARD
BEGIN:DAYLIGHT
TZOFFSETFROM:+0100
TZOFFSETTO:+0200
TZNAME:CEST
DTSTART:20200329T010000
END:DAYLIGHT
BEGIN:STANDARD
TZOFFSETFROM:+0200
TZOFFSETTO:+0100
TZNAME:CET
DTSTART:20201025T010000
END:STANDARD
END:VTIMEZONE
BEGIN:VEVENT
DTSTART;TZID=Europe/Paris:20190522T191500
DTEND;TZID=Europe/Paris:20190522T231500
DTSTAMP:20260424T174659
CREATED:20190425T114147Z
LAST-MODIFIED:20190523T181408Z
UID:5509-1558552500-1558566900@uae.lu
SUMMARY:COUR DES COMPTES: UN CONTRÔLE MODERNE DE L'ÉCONOMIE PUBLIQUE ET SUR LES FINANCEMENTS EUROPÉENS / COURT OF AUDITORS: A MODERN CONTROL OVER THE PUBLIC ECONOMY AND EUROPEAN FUNDING
DESCRIPTION:Conférence sur le sujet : “COUR DES COMPTES: UN CONTRÔLE MODERNE DE L’ÉCONOMIE PUBLIQUE ET SUR LES FINANCEMENTS EUROPÉENS.” \nConference on the subject : “COURT OF AUDITORS: A MODERN CONTROL OVER THE PUBLIC ECONOMY AND EUROPEAN FUNDING.” \nDOWNLOAD PROGRAMME\nDOWNLOAD REGISTRATION FORM
URL:https://uae.lu/event/cour-des-comptes-un-controle-moderne-de-leconomie-publique-et-sur-les-financements-europeens-court-of-auditors-a-modern-control-over-the-public-economy-and-european-funding/
LOCATION:Società del Giardino – Via San Paolo 10 – Milano\, Via San Paolo\, 10\, Milano\, Italy
CATEGORIES:Conferences,Past Event
ORGANIZER;CN="Milan and Western Lombardy Delegation":MAILTO:uaemilano@gmail.com
END:VEVENT
END:VCALENDAR