BEGIN:VCALENDAR
VERSION:2.0
PRODID:-//U.A.E. European Lawyers’ Union - ECPv6.15.20//NONSGML v1.0//EN
CALSCALE:GREGORIAN
METHOD:PUBLISH
X-ORIGINAL-URL:https://uae.lu
X-WR-CALDESC:Events for U.A.E. European Lawyers’ Union
REFRESH-INTERVAL;VALUE=DURATION:PT1H
X-Robots-Tag:noindex
X-PUBLISHED-TTL:PT1H
BEGIN:VTIMEZONE
TZID:Europe/Paris
BEGIN:DAYLIGHT
TZOFFSETFROM:+0100
TZOFFSETTO:+0200
TZNAME:CEST
DTSTART:20180325T010000
END:DAYLIGHT
BEGIN:STANDARD
TZOFFSETFROM:+0200
TZOFFSETTO:+0100
TZNAME:CET
DTSTART:20181028T010000
END:STANDARD
BEGIN:DAYLIGHT
TZOFFSETFROM:+0100
TZOFFSETTO:+0200
TZNAME:CEST
DTSTART:20190331T010000
END:DAYLIGHT
BEGIN:STANDARD
TZOFFSETFROM:+0200
TZOFFSETTO:+0100
TZNAME:CET
DTSTART:20191027T010000
END:STANDARD
BEGIN:DAYLIGHT
TZOFFSETFROM:+0100
TZOFFSETTO:+0200
TZNAME:CEST
DTSTART:20200329T010000
END:DAYLIGHT
BEGIN:STANDARD
TZOFFSETFROM:+0200
TZOFFSETTO:+0100
TZNAME:CET
DTSTART:20201025T010000
END:STANDARD
BEGIN:DAYLIGHT
TZOFFSETFROM:+0100
TZOFFSETTO:+0200
TZNAME:CEST
DTSTART:20210328T010000
END:DAYLIGHT
BEGIN:STANDARD
TZOFFSETFROM:+0200
TZOFFSETTO:+0100
TZNAME:CET
DTSTART:20211031T010000
END:STANDARD
BEGIN:DAYLIGHT
TZOFFSETFROM:+0100
TZOFFSETTO:+0200
TZNAME:CEST
DTSTART:20220327T010000
END:DAYLIGHT
BEGIN:STANDARD
TZOFFSETFROM:+0200
TZOFFSETTO:+0100
TZNAME:CET
DTSTART:20221030T010000
END:STANDARD
BEGIN:DAYLIGHT
TZOFFSETFROM:+0100
TZOFFSETTO:+0200
TZNAME:CEST
DTSTART:20230326T010000
END:DAYLIGHT
BEGIN:STANDARD
TZOFFSETFROM:+0200
TZOFFSETTO:+0100
TZNAME:CET
DTSTART:20231029T010000
END:STANDARD
END:VTIMEZONE
BEGIN:VEVENT
DTSTART;TZID=Europe/Paris:20221022T103000
DTEND;TZID=Europe/Paris:20221022T163000
DTSTAMP:20260425T161717
CREATED:20221003T183455Z
LAST-MODIFIED:20221003T183455Z
UID:21453-1666434600-1666456200@uae.lu
SUMMARY:CLEAN AVIATION
DESCRIPTION:Download Programme ENGLISH: \nPROGRAMME\nDownload Programme FRENCH: \nPROGRAMME\nDownload Programme ITALIAN: \nPROGRAMMA\nRegistrations: \nE-mail to the following address by 22 October 2022:\nuae.aviationlawcommission@adavastroassociati.it
URL:https://uae.lu/event/clean-aviation/
LOCATION:Fondazione Volandia\, Via per Tornavento 15\, Case Nuove Somma L.do\, Italy
CATEGORIES:Conferences,Course
ORGANIZER;CN="Avv. Paolo Re%2C President of the Aviation Law Commission":MAILTO:uae.aviationlawcommission@adavastroassociati.it
END:VEVENT
BEGIN:VEVENT
DTSTART;TZID=Europe/Paris:20221021T150000
DTEND;TZID=Europe/Paris:20221021T190000
DTSTAMP:20260425T161717
CREATED:20221010T093224Z
LAST-MODIFIED:20221013T080812Z
UID:21489-1666364400-1666378800@uae.lu
SUMMARY:LA COMPOSIZIONE NEGOZIATA PER LA SOLUZIONE DELLA CRISI D'IMPRESA: aspetti ed ambiti di comparazione in una prospettiva europea
DESCRIPTION:  \nRegistrations: \nCLICK HERE TO REGISTER. \nDownload Programme: \nPROGRAMMA
URL:https://uae.lu/event/la-composizione-negoziata-per-la-soluzione-della-crisi-dimpresa/
LOCATION:Convento San Domenico Bologna\, Piazza San Domenico\, Bologna\, Italy
CATEGORIES:Conferences,Course
END:VEVENT
BEGIN:VEVENT
DTSTART;TZID=Europe/Paris:20220930T143000
DTEND;TZID=Europe/Paris:20220930T183000
DTSTAMP:20260425T161717
CREATED:20220906T095206Z
LAST-MODIFIED:20220906T095206Z
UID:21304-1664548200-1664562600@uae.lu
SUMMARY:ARTIFICIAL INTELLIGENCE AND LAW
DESCRIPTION:Download Programme: \nPROGRAMME\nRegistrations: \nunioneavvocatieuropei.palermo@gmail.com
URL:https://uae.lu/event/artificial-intelligence-and-law/
LOCATION:Online
CATEGORIES:Conferences,Course
ORGANIZER;CN="Avv. Maria Bruccoleri%2C President of the Palermo and western Sicily U.A.E. Delegation":MAILTO:unioneavvocatieuropei.palermo@gmail.com
END:VEVENT
BEGIN:VEVENT
DTSTART;TZID=Europe/Paris:20220610T153000
DTEND;TZID=Europe/Paris:20220610T193000
DTSTAMP:20260425T161717
CREATED:20220604T194814Z
LAST-MODIFIED:20220604T200955Z
UID:20854-1654875000-1654889400@uae.lu
SUMMARY:LEGGE DI BILANCIO E DECRETO FISCALE : OPPORTUNITA' PER I CONTRIBUENTI E PROFILI SOVRANAZIONALI
DESCRIPTION:Download Programme: \nPROGRAMME\nRegistrations: \nuaetaxcommission@gmail.com
URL:https://uae.lu/event/legge-di-bilancio-e-decreto-fiscale-opportunita-per-i-contribuenti-e-profili-sovranazionali/
LOCATION:Museo e Biblioteca L’Alca – Maglie (Lecce)\, Biblioteca L'Alca\, Maglie\, Italy
CATEGORIES:Conferences,Course
ORGANIZER;CN="Avv. Dario Marsella%2C President of the Tax Law Commission":MAILTO:uaetaxcommission@gmail.com
END:VEVENT
BEGIN:VEVENT
DTSTART;TZID=Europe/Paris:20220610T110000
DTEND;TZID=Europe/Paris:20220610T143000
DTSTAMP:20260425T161717
CREATED:20220525T081142Z
LAST-MODIFIED:20220525T081142Z
UID:20781-1654858800-1654871400@uae.lu
SUMMARY:L'INTRODUZIONE DELL'ECOSISTEMA NELL'IMPIANTO COSTITUZIONALE ITALIANO: PROSPETTIVE DI TUTELA NELLA CONVENZIONE EUROPEA DEI DIRITTI DELL'UOMO E NELLA LOTTA ALLE ECOMAFIE
DESCRIPTION:Download Programme: \nPROGRAMME\nRegistrations: \n\nConvegno online: inviare email a formazioneartes@gmail.com\nConvegno in presenza: inviare email a mariella@iol.it
URL:https://uae.lu/event/lintroduzione-dellecosistema-nellimpianto-costituzionale-italiano/
LOCATION:Sala Rari\, Piazza del Plebiscito 1\, Napoli\, Piazza del Plebiscito 1\, Napoli\, Italy
CATEGORIES:Conferences,Course
ORGANIZER;CN="Mariella Fiorentino":MAILTO:mariella@iol.it
END:VEVENT
BEGIN:VEVENT
DTSTART;TZID=Europe/Paris:20220530T143000
DTEND;TZID=Europe/Paris:20220530T173000
DTSTAMP:20260425T161717
CREATED:20220503T124641Z
LAST-MODIFIED:20220503T124641Z
UID:20704-1653921000-1653931800@uae.lu
SUMMARY:DIGITALIZATION: THE TOOLS USED BY THE REVENUE AGENCY AND THE FINANCIAL POLICE
DESCRIPTION:Download Programme: \nPROGRAMME\nRegistrations: \nunioneavvocatieuropei.palermo@gmail.com
URL:https://uae.lu/event/digitalization-the-tools-used-by-the-revenue-agency-and-the-financial-police/
LOCATION:Online
CATEGORIES:Conferences,Course
ORGANIZER;CN="Avv. Maria Bruccoleri%2C President of the Palermo and western Sicily U.A.E. Delegation":MAILTO:unioneavvocatieuropei.palermo@gmail.com
END:VEVENT
BEGIN:VEVENT
DTSTART;TZID=Europe/Paris:20220527T150000
DTEND;TZID=Europe/Paris:20220527T180000
DTSTAMP:20260425T161717
CREATED:20220328T155111Z
LAST-MODIFIED:20220516T082552Z
UID:20468-1653663600-1653674400@uae.lu
SUMMARY:IL PROCESSO DI EUROPEIZZAZIONE DEL DIRITTO DI FAMIGLIA
DESCRIPTION:Download Programme: \nPROGRAMME\nDownload Registration Form: \nREGISTRATION FORM
URL:https://uae.lu/event/il-processo-di-europeizzazione-del-diritto-di-famiglia/
LOCATION:Online
CATEGORIES:Conferences,Course
END:VEVENT
BEGIN:VEVENT
DTSTART;TZID=Europe/Paris:20220426T150000
DTEND;TZID=Europe/Paris:20220426T190000
DTSTAMP:20260425T161717
CREATED:20220421T115750Z
LAST-MODIFIED:20220421T161231Z
UID:20583-1650985200-1650999600@uae.lu
SUMMARY:LE PROVE NEL PROCESSO TRIBUTARIO E PROCESSO PENALE TRIBUTARIO
DESCRIPTION:  \nRegistration: \nClick here to register \n  \nDownload Programme: \nPROGRAMME
URL:https://uae.lu/event/le-prove-nel-processo-tributario-e-processo-penale-tributario/
LOCATION:Online
CATEGORIES:Conferences,Course
ORGANIZER;CN="Avv. Dario Marsella%2C President of the Tax Law Commission":MAILTO:uaetaxcommission@gmail.com
END:VEVENT
BEGIN:VEVENT
DTSTART;TZID=Europe/Paris:20210604T150000
DTEND;TZID=Europe/Paris:20210605T120000
DTSTAMP:20260425T161717
CREATED:20210412T131438Z
LAST-MODIFIED:20210523T194203Z
UID:19330-1622818800-1622894400@uae.lu
SUMMARY:Course on Family Law
DESCRIPTION:COURSE ON FAMILY LAW\n7-8 MAY\, 21-22 MAY and 4-5 JUNE 2021\nDOWNLOAD PROGRAMME
URL:https://uae.lu/event/course-on-family-law/
LOCATION:Online
CATEGORIES:Conferences,Course
ORGANIZER;CN="Avv. Rosanna Marzocca%2C Deputy Secretary General of the U.A.E.":MAILTO:rosanna.marzocca@studiolegalemarzocca.it
END:VEVENT
BEGIN:VEVENT
DTSTART;TZID=Europe/Paris:20210506T140000
DTEND;TZID=Europe/Paris:20210506T180000
DTSTAMP:20260425T161717
CREATED:20200923T152339Z
LAST-MODIFIED:20210304T092952Z
UID:17959-1620309600-1620324000@uae.lu
SUMMARY:Specialization course in European Union Law - II edition
DESCRIPTION:SPECIALIZATION COURSE IN EUROPEAN UNION LAW – II edition\nRegistrations are open until 12 October 2020 at 2 pm in the manner indicated in the attached document.\n\nCORSO DI PERFEZIONAMENTO E SPECIALIZZAZIONE IN DIRITTO DELL’UNIONE EUROPEA – II edizione\nLe iscrizioni sono aperte fino al 12 ottobre 2020 ore 14 con le modalità indicate nella locandina allegata.\n\nDOWNLOAD FLYER
URL:https://uae.lu/event/specialization-course-in-european-union-law-ii-edition/
LOCATION:Department of Italian and Supranational Public Law\, Via Festa del Perdono\, 7\, Milan\, 20122\, Italy
CATEGORIES:Conferences,Course
ORGANIZER;CN="Francesco Rossi Dal Pozzo":MAILTO:perfezionamentodirittoue@unimi.it
END:VEVENT
BEGIN:VEVENT
DTSTART;TZID=Europe/Paris:20201211T150000
DTEND;TZID=Europe/Paris:20201211T180000
DTSTAMP:20260425T161717
CREATED:20201119T094523Z
LAST-MODIFIED:20201130T112114Z
UID:18297-1607698800-1607709600@uae.lu
SUMMARY:"Les caisses de pension des membres des professions libérales aprés le COVID?” Italie et Roumanie\, Partage d'experiences / "Pension plans for self-employed persons after COVID" Italy and Romania\, Comparison of experiences
DESCRIPTION:“LES CAISSES DE PENSION DES MEMBRES DES PROFESSIONS LIBÉRALES APRÈS LE COVID?” ITALIE ET ROUMANIE\, PARTAGE D’EXPÉRIENCES.\n“PENSION PLANS FOR SELF-EMPLOYED PERSONS AFTER COVID” ITALY AND ROMANIA\, COMPARISON OF EXPERIENCES.\n“LE CASSE DI PREVIDENZA DEI LIBERI PROFESSIONISTI DOPO IL COVID?” ITALIA E ROMANIA\, ESPERIENZE A CONFRONTO”.\nInscriptions / Registration / Iscrizioni : info@studiolegalemercurio.eu \nDOWNLOAD PROGRAMME
URL:https://uae.lu/event/les-caisses-de-pension-des-membres-des-professions-liberales-apres-le-covid-italie-et-roumanie-partage-dexperiences-pension-plans-for-self-employed-persons-after-covid-italy-and/
LOCATION:Online
CATEGORIES:Conferences,Course
ORGANIZER;CN="Avv.Giuseppe Mercurio":MAILTO:info@studiolegalemercurio.eu
END:VEVENT
BEGIN:VEVENT
DTSTART;TZID=Europe/Paris:20191127T153000
DTEND;TZID=Europe/Paris:20200108T183000
DTSTAMP:20260425T161717
CREATED:20191106T131146Z
LAST-MODIFIED:20191204T084348Z
UID:16558-1574868600-1578508200@uae.lu
SUMMARY:UN BREF COURS SUR LE DROIT PÉNAL FISCAL / A SHORT COURSE ON CRIMINAL TAX LAW
DESCRIPTION:“Un bref cours sur le droit pénal fiscal. Le décret législatif 74/2000\, vingt ans après son introduction\, à la suite des modifications apportées au décret législatif du 26 octobre 2019\, n. 124”.  \n“A short course on criminal tax law . The legislative decree 74/2000\, twenty years after its introduction\, in view of the modifications of the legislative decree of 26 October 2019\, n. 124”.  \nInformation et inscription / Information and registration: \ng.moschetti@studiomoschetti.com \n  \nDOWNLOAD COMPLETE COURSE INFORMATION
URL:https://uae.lu/event/un-bref-cours-sur-le-droit-penal-fiscal-a-short-course-on-criminal-tax-law/
LOCATION:Crowne Plaza Padova\, Crowne Plaza Padova\, Via Po\, 197\, Padova\, 35135\, Italy
CATEGORIES:Conferences,Course
ORGANIZER;CN="Avv. Giovanni Moschetti":MAILTO:g.moschetti@studiomoschetti.com
END:VEVENT
BEGIN:VEVENT
DTSTART;TZID=Europe/Paris:20191014T140000
DTEND;TZID=Europe/Paris:20191014T140000
DTSTAMP:20260425T161717
CREATED:20190811T170335Z
LAST-MODIFIED:20190927T184802Z
UID:10388-1571061600-1571061600@uae.lu
SUMMARY:FIRST EDITION OF THE COURSE OF TRAINING AND SPECIALISATION IN EUROPEAN UNION LAW
DESCRIPTION:COURSE OF EUROPEAN UNION LAW \nFirst edition of the course organised by the University of Milan in collaboration with the European Lawyers’ Union (U.A.E.) and under the patronage of the Milan Bar Association and the Scuola Superiore dell’Avvocatura. \nApplications by 14 October\, lectures from 30 October 2019 to 30 April 2020 also in e-learning mode. \n110 places available at the Milan office and 20 training credits recognised by the Milan Bar Association. \nDOWNLOAD FLYER
URL:https://uae.lu/event/first-edition-of-the-course-of-training-and-specialisation-in-european-union-law/
LOCATION:Department of Italian and Supranational Public Law\, Via Festa del Perdono\, 7\, Milan\, 20122\, Italy
CATEGORIES:Course
ORGANIZER;CN="Francesco Rossi Dal Pozzo":MAILTO:perfezionamentodirittoue@unimi.it
END:VEVENT
END:VCALENDAR