BEGIN:VCALENDAR
VERSION:2.0
PRODID:-//U.A.E. European Lawyers’ Union - ECPv6.15.20//NONSGML v1.0//EN
CALSCALE:GREGORIAN
METHOD:PUBLISH
X-WR-CALNAME:U.A.E. European Lawyers’ Union
X-ORIGINAL-URL:https://uae.lu
X-WR-CALDESC:Events for U.A.E. European Lawyers’ Union
REFRESH-INTERVAL;VALUE=DURATION:PT1H
X-Robots-Tag:noindex
X-PUBLISHED-TTL:PT1H
BEGIN:VTIMEZONE
TZID:Europe/Paris
BEGIN:DAYLIGHT
TZOFFSETFROM:+0100
TZOFFSETTO:+0200
TZNAME:CEST
DTSTART:20240331T010000
END:DAYLIGHT
BEGIN:STANDARD
TZOFFSETFROM:+0200
TZOFFSETTO:+0100
TZNAME:CET
DTSTART:20241027T010000
END:STANDARD
BEGIN:DAYLIGHT
TZOFFSETFROM:+0100
TZOFFSETTO:+0200
TZNAME:CEST
DTSTART:20250330T010000
END:DAYLIGHT
BEGIN:STANDARD
TZOFFSETFROM:+0200
TZOFFSETTO:+0100
TZNAME:CET
DTSTART:20251026T010000
END:STANDARD
BEGIN:DAYLIGHT
TZOFFSETFROM:+0100
TZOFFSETTO:+0200
TZNAME:CEST
DTSTART:20260329T010000
END:DAYLIGHT
BEGIN:STANDARD
TZOFFSETFROM:+0200
TZOFFSETTO:+0100
TZNAME:CET
DTSTART:20261025T010000
END:STANDARD
END:VTIMEZONE
BEGIN:VEVENT
DTSTART;VALUE=DATE:20251121
DTEND;VALUE=DATE:20251124
DTSTAMP:20260423T113606
CREATED:20250925T122831Z
LAST-MODIFIED:20251116T180108Z
UID:25962-1763686800-1763859599@uae.lu
SUMMARY:2025 UAE General assembly - Strasbourg
DESCRIPTION:We are pleased to confirm that the upcoming General Assembly of the UAE will take place in Strasbourg on November 21st and 22nd\, 2025. \nThe event will feature a rich program of institutional meetings\, discussions\, and convivial moments. \nDOWNLOAD PROGRAM
URL:https://uae.lu/event/2025-uae-general-assembly-strasbourg/
LOCATION:Council of Europe\, Av. de l'Europe\, 67000 Strasbourg\, Strasbourg\, 67000\, France
CATEGORIES:Conferences,Congresses,General Assembly
ATTACH;FMTTYPE=image/jpeg:https://uae.lu/wp-content/uploads/2025/09/WhatsApp-Image-2025-09-25-at-14.18.17-scaled-e1758803898618.jpeg
END:VEVENT
END:VCALENDAR